BEGIN:VCALENDAR
VERSION:2.0
PRODID:-//jEvents 2.0 for Joomla//EN
CALSCALE:GREGORIAN
METHOD:PUBLISH
BEGIN:VTIMEZONE
TZID:Europe/Sarajevo
END:VTIMEZONE
BEGIN:VEVENT
UID:96c14007f8e77da075f00ac8e09bc10a
CATEGORIES:Program
CREATED:20251202T182117
SUMMARY:Mravko travko
LOCATION:Velika scena
DESCRIPTION:<p><strong>Koncert za djevojčice i dječake „Mravko travko“ </strong></p><p>
 Mravko Travko je muzički brand namijenjen djeci uzrasta do šestog razreda o
 snovne škole. Kroz zdravu zabavu mališani uče o vrijednostima koje će ih uč
 initi zdravim i korisnim osobama. Mravko Travko i njegova družina su  do sa
 da održali stotine koncerata na kojima je prisustvovalo nekoliko desetina h
 iljada gledalaca. Koncert je namjenjen kompletnoj porodici tako da djeca mo
 gu uživati sa svojim roditeljima.</p>
CONTACT:Ova adresa el. pošte je zaštićena od spambotova. Omogućite JavaScript da biste je vidjeli.
				document.getElementById('cloakbf436c2e2c53bcd5dac4d196251e5fa6').innerHTML = '';
				var prefix = '&#109;a' + 'i&#108;' + '&#116;o';
				var path = 'hr' + 'ef' + '=';
				var addybf436c2e2c53bcd5dac4d196251e5fa6 = 'm&#97;rk&#101;t&#105;ng' + '&#64;';
				addybf436c2e2c53bcd5dac4d196251e5fa6 = addybf436c2e2c53bcd5dac4d196251e5fa6 + 'npm' + '&#46;' + 'b&#97;';
				var addy_textbf436c2e2c53bcd5dac4d196251e5fa6 = 'm&#97;rk&#101;t&#105;ng' + '&#64;' + 'npm' + '&#46;' + 'b&#97;';document.getElementById('cloakbf436c2e2c53bcd5dac4d196251e5fa6').innerHTML += '<a ' + path + '\'' + prefix + ':' + addybf436c2e2c53bcd5dac4d196251e5fa6 + '\'>'+addy_textbf436c2e2c53bcd5dac4d196251e5fa6+'';
		
X-EXTRAINFO:Cijena ulaznice iznosi 10 KM
DTSTAMP:20260421T123648Z
DTSTART;TZID=Europe/Sarajevo:20251202T200000
DTEND;TZID=Europe/Sarajevo:20251202T210000
SEQUENCE:0
TRANSP:OPAQUE
END:VEVENT
END:VCALENDAR