BEGIN:VCALENDAR
VERSION:2.0
PRODID:-//jEvents 2.0 for Joomla//EN
CALSCALE:GREGORIAN
METHOD:PUBLISH
BEGIN:VTIMEZONE
TZID:Europe/Sarajevo
END:VTIMEZONE
BEGIN:VEVENT
UID:95be240981671221a065773bbaf28e96
CATEGORIES:Program
CREATED:20251006T165418
SUMMARY:Bajka o pozorištu 
LOCATION:Velika scena
DESCRIPTION:<p>„Bajka o pozorištu“ autora Vladimira Đurđevića, u režiji Ferida Karajice
 , je satirična komedija koja na duhovit način ukazuje na stvarnost savremen
 og društva, sa posebnim fokusom na zanemareni položaj kulture i pozorišta. 
 Kroz likove i dijaloge koji odražavaju apsurdne stavove političke elite, pr
 edstava prikazuje kako umjetnost biva potisnuta, manipulisana i korištena k
 ao sredstvo propagande. Predstava podsjeća na gorku realnost, kritikujući p
 asivnost naroda i autoritativni odnos vlasti prema slobodi mišljenja.</p><p
 >Igraju: Amela Kreso, Diana Ondelj Maksumić k.g., Dragana Matrak Bukvić, Di
 no Kerić k.g., Saša Oručević, Emir Sejfić i Jasmin Krpo</p>
CONTACT:Ova adresa el. pošte je zaštićena od spambotova. Omogućite JavaScript da biste je vidjeli.
				document.getElementById('cloakce5e8349f931755162b73c7015bb2aac').innerHTML = '';
				var prefix = '&#109;a' + 'i&#108;' + '&#116;o';
				var path = 'hr' + 'ef' + '=';
				var addyce5e8349f931755162b73c7015bb2aac = 'm&#97;rk&#101;t&#105;ng' + '&#64;';
				addyce5e8349f931755162b73c7015bb2aac = addyce5e8349f931755162b73c7015bb2aac + 'npm' + '&#46;' + 'b&#97;';
				var addy_textce5e8349f931755162b73c7015bb2aac = 'm&#97;rk&#101;t&#105;ng' + '&#64;' + 'npm' + '&#46;' + 'b&#97;';document.getElementById('cloakce5e8349f931755162b73c7015bb2aac').innerHTML += '<a ' + path + '\'' + prefix + ':' + addyce5e8349f931755162b73c7015bb2aac + '\'>'+addy_textce5e8349f931755162b73c7015bb2aac+'';
		
X-EXTRAINFO:Cijena ulaznice 10 KM, sa popustom za učenike, studente i penzionere 5 KM
DTSTAMP:20260423T022111Z
DTSTART;TZID=Europe/Sarajevo:20251003T200000
DTEND;TZID=Europe/Sarajevo:20251003T210000
SEQUENCE:0
TRANSP:OPAQUE
END:VEVENT
END:VCALENDAR