BEGIN:VCALENDAR
VERSION:2.0
PRODID:-//jEvents 2.0 for Joomla//EN
CALSCALE:GREGORIAN
METHOD:PUBLISH
BEGIN:VTIMEZONE
TZID:Europe/Sarajevo
END:VTIMEZONE
BEGIN:VEVENT
UID:d22e4b0de0780c7db260e547e922e66b
CATEGORIES:Program
CREATED:20250611T224845
SUMMARY:Ovaj mali život
LOCATION:Velika scena
DESCRIPTION:režija: Emina Kovačević-Podgorčević\nKoprodukcija: Narodno pozorište u Most
 aru i Hrvatsko narodno kazalište u Mostaru\n
CONTACT:Ova adresa el. pošte je zaštićena od spambotova. Omogućite JavaScript da biste je vidjeli.
				document.getElementById('cloak0606bd447dbaa0a5ef79f6cbdbd3e36d').innerHTML = '';
				var prefix = '&#109;a' + 'i&#108;' + '&#116;o';
				var path = 'hr' + 'ef' + '=';
				var addy0606bd447dbaa0a5ef79f6cbdbd3e36d = 'm&#97;rk&#101;t&#105;ng' + '&#64;';
				addy0606bd447dbaa0a5ef79f6cbdbd3e36d = addy0606bd447dbaa0a5ef79f6cbdbd3e36d + 'npm' + '&#46;' + 'b&#97;';
				var addy_text0606bd447dbaa0a5ef79f6cbdbd3e36d = 'm&#97;rk&#101;t&#105;ng' + '&#64;' + 'npm' + '&#46;' + 'b&#97;';document.getElementById('cloak0606bd447dbaa0a5ef79f6cbdbd3e36d').innerHTML += '<a ' + path + '\'' + prefix + ':' + addy0606bd447dbaa0a5ef79f6cbdbd3e36d + '\'>'+addy_text0606bd447dbaa0a5ef79f6cbdbd3e36d+'';
		
X-EXTRAINFO:Cijena ulaznice iznosi 10 KM, sa popustom za učenike, studente i penzionere
  5 KM.
DTSTAMP:20260421T021212Z
DTSTART;TZID=Europe/Sarajevo:20250619T200000
DTEND;TZID=Europe/Sarajevo:20250619T210000
SEQUENCE:0
TRANSP:OPAQUE
END:VEVENT
END:VCALENDAR