BEGIN:VCALENDAR
VERSION:2.0
PRODID:-//jEvents 2.0 for Joomla//EN
CALSCALE:GREGORIAN
METHOD:PUBLISH
BEGIN:VTIMEZONE
TZID:Europe/Sarajevo
END:VTIMEZONE
BEGIN:VEVENT
UID:0e0b0a317e29baf208d575e233066534
CATEGORIES:Program
CREATED:20250611T224701
SUMMARY:Bajka o pozorištu
LOCATION:Velika scena
DESCRIPTION:<p>"Bajka o pozorištu"<br />Autor: Vladimir Đurđević<br />Režija: Ferid Kar
 ajica<br />Produkcija: Narodno pozorište u Mostaru</p>
CONTACT:Ova adresa el. pošte je zaštićena od spambotova. Omogućite JavaScript da biste je vidjeli.
				document.getElementById('cloakc41afd0dc296f0ed6694d28a3870c22d').innerHTML = '';
				var prefix = '&#109;a' + 'i&#108;' + '&#116;o';
				var path = 'hr' + 'ef' + '=';
				var addyc41afd0dc296f0ed6694d28a3870c22d = 'm&#97;rk&#101;t&#105;ng' + '&#64;';
				addyc41afd0dc296f0ed6694d28a3870c22d = addyc41afd0dc296f0ed6694d28a3870c22d + 'npm' + '&#46;' + 'b&#97;';
				var addy_textc41afd0dc296f0ed6694d28a3870c22d = 'm&#97;rk&#101;t&#105;ng' + '&#64;' + 'npm' + '&#46;' + 'b&#97;';document.getElementById('cloakc41afd0dc296f0ed6694d28a3870c22d').innerHTML += '<a ' + path + '\'' + prefix + ':' + addyc41afd0dc296f0ed6694d28a3870c22d + '\'>'+addy_textc41afd0dc296f0ed6694d28a3870c22d+'';
		
DTSTAMP:20260421T022803Z
DTSTART;TZID=Europe/Sarajevo:20250613T200000
DTEND;TZID=Europe/Sarajevo:20250613T210000
SEQUENCE:0
TRANSP:OPAQUE
END:VEVENT
END:VCALENDAR