BEGIN:VCALENDAR
VERSION:2.0
PRODID:-//jEvents 2.0 for Joomla//EN
CALSCALE:GREGORIAN
METHOD:PUBLISH
BEGIN:VTIMEZONE
TZID:Europe/Sarajevo
END:VTIMEZONE
BEGIN:VEVENT
UID:d4e62b9d1dfd54e16077e585fdbaa0b7
CATEGORIES:Program
CREATED:20250603T153436
SUMMARY:Bajka o pozorištu
LOCATION:Velika scena
DESCRIPTION:<p>„Bajka o pozorištu“ je satirična komedija koja na duhovit način ukazuje 
 na stvarnost savremenog društva, sa posebnim fokusom na zanemareni položaj 
 kulture i pozorišta. Kroz likove i dijaloge koji odražavaju apsurdne stavov
 e političke elite, predstava prikazuje kako umjetnost biva potisnuta, manip
 ulisana i korištena kao sredstvo propagande. Predstava podsjeća na gorku re
 alnost, kritikujući pasivnost naroda i autoritativni odnos vlasti prema slo
 bodi mišljenja.</p><p>Glumačku postavu čine: Saša Oručević, Emir Sejfić, Am
 ela Kreso, Jasmin Krpo, Dragana Matrak Bukvić, Diana Ondelj Maksumić k.g., 
 i Dino Kerić k.g.</p>
CONTACT:Ova adresa el. pošte je zaštićena od spambotova. Omogućite JavaScript da biste je vidjeli.
				document.getElementById('cloakfa5c1b2de76ebff8b9b36226f2b178ff').innerHTML = '';
				var prefix = '&#109;a' + 'i&#108;' + '&#116;o';
				var path = 'hr' + 'ef' + '=';
				var addyfa5c1b2de76ebff8b9b36226f2b178ff = 'm&#97;rk&#101;t&#105;ng' + '&#64;';
				addyfa5c1b2de76ebff8b9b36226f2b178ff = addyfa5c1b2de76ebff8b9b36226f2b178ff + 'npm' + '&#46;' + 'b&#97;';
				var addy_textfa5c1b2de76ebff8b9b36226f2b178ff = 'm&#97;rk&#101;t&#105;ng' + '&#64;' + 'npm' + '&#46;' + 'b&#97;';document.getElementById('cloakfa5c1b2de76ebff8b9b36226f2b178ff').innerHTML += '<a ' + path + '\'' + prefix + ':' + addyfa5c1b2de76ebff8b9b36226f2b178ff + '\'>'+addy_textfa5c1b2de76ebff8b9b36226f2b178ff+'';
		
X-EXTRAINFO:Cijena ulaznice iznosi 10 KM, sa popustom za učenike, studente i penzionere
  5 KM.
DTSTAMP:20260421T022239Z
DTSTART;TZID=Europe/Sarajevo:20250603T200000
DTEND;TZID=Europe/Sarajevo:20250603T210000
SEQUENCE:0
TRANSP:OPAQUE
END:VEVENT
END:VCALENDAR