BEGIN:VCALENDAR
VERSION:2.0
PRODID:-//jEvents 2.0 for Joomla//EN
CALSCALE:GREGORIAN
METHOD:PUBLISH
BEGIN:VTIMEZONE
TZID:Europe/Sarajevo
END:VTIMEZONE
BEGIN:VEVENT
UID:06695835ef3705d1c47bd87a6cb0b07d
CATEGORIES:Program
CREATED:20250425T160119
SUMMARY:Zatvaranje festivala - Filmmusicorkestar koncert
LOCATION:Velika scena
DESCRIPTION:<p>Filmmusicorkestar</p>
CONTACT:Ova adresa el. pošte je zaštićena od spambotova. Omogućite JavaScript da biste je vidjeli.
				document.getElementById('cloak153e6b1423818b829b4f7e8f0631ea70').innerHTML = '';
				var prefix = '&#109;a' + 'i&#108;' + '&#116;o';
				var path = 'hr' + 'ef' + '=';
				var addy153e6b1423818b829b4f7e8f0631ea70 = 'm&#97;rk&#101;t&#105;ng' + '&#64;';
				addy153e6b1423818b829b4f7e8f0631ea70 = addy153e6b1423818b829b4f7e8f0631ea70 + 'npm' + '&#46;' + 'b&#97;';
				var addy_text153e6b1423818b829b4f7e8f0631ea70 = 'm&#97;rk&#101;t&#105;ng' + '&#64;' + 'npm' + '&#46;' + 'b&#97;';document.getElementById('cloak153e6b1423818b829b4f7e8f0631ea70').innerHTML += '<a ' + path + '\'' + prefix + ':' + addy153e6b1423818b829b4f7e8f0631ea70 + '\'>'+addy_text153e6b1423818b829b4f7e8f0631ea70+'';
		
DTSTAMP:20260421T070526Z
DTSTART;TZID=Europe/Sarajevo:20250523T200000
DTEND;TZID=Europe/Sarajevo:20250523T210000
SEQUENCE:0
TRANSP:OPAQUE
END:VEVENT
END:VCALENDAR