BEGIN:VCALENDAR
VERSION:2.0
PRODID:-//jEvents 2.0 for Joomla//EN
CALSCALE:GREGORIAN
METHOD:PUBLISH
BEGIN:VTIMEZONE
TZID:Europe/Sarajevo
END:VTIMEZONE
BEGIN:VEVENT
UID:c7c1628f511db08e64131bba6a9358a8
CATEGORIES:Program
CREATED:20250425T160025
SUMMARY:Večera budala
LOCATION:Velika scena
DESCRIPTION:"Večera budala"\nAutor: Francis Veber\nRežija: Adis Bakrač\nProdukcija: Poz
 orište mladih Sarajevo\n
CONTACT:Ova adresa el. pošte je zaštićena od spambotova. Omogućite JavaScript da biste je vidjeli.
				document.getElementById('cloakc4a5646b5516e05a7c91817d1cb22073').innerHTML = '';
				var prefix = '&#109;a' + 'i&#108;' + '&#116;o';
				var path = 'hr' + 'ef' + '=';
				var addyc4a5646b5516e05a7c91817d1cb22073 = 'm&#97;rk&#101;t&#105;ng' + '&#64;';
				addyc4a5646b5516e05a7c91817d1cb22073 = addyc4a5646b5516e05a7c91817d1cb22073 + 'npm' + '&#46;' + 'b&#97;';
				var addy_textc4a5646b5516e05a7c91817d1cb22073 = 'm&#97;rk&#101;t&#105;ng' + '&#64;' + 'npm' + '&#46;' + 'b&#97;';document.getElementById('cloakc4a5646b5516e05a7c91817d1cb22073').innerHTML += '<a ' + path + '\'' + prefix + ':' + addyc4a5646b5516e05a7c91817d1cb22073 + '\'>'+addy_textc4a5646b5516e05a7c91817d1cb22073+'';
		
DTSTAMP:20260421T071513Z
DTSTART;TZID=Europe/Sarajevo:20250521T200000
DTEND;TZID=Europe/Sarajevo:20250521T210000
SEQUENCE:0
TRANSP:OPAQUE
END:VEVENT
END:VCALENDAR