BEGIN:VCALENDAR
VERSION:2.0
PRODID:-//jEvents 2.0 for Joomla//EN
CALSCALE:GREGORIAN
METHOD:PUBLISH
BEGIN:VTIMEZONE
TZID:Europe/Sarajevo
END:VTIMEZONE
BEGIN:VEVENT
UID:ee211bc01437fb177159bad4e1ec9fc9
CATEGORIES:Program
CREATED:20250425T155938
SUMMARY:Lažljivci
LOCATION:Velika scena
DESCRIPTION:<p>"Lažljivci"<br />Autor: Antony Neilson<br />Režija: Marko Manojlović<br 
 />Produkcija: Gradsko pozorište Podgorica</p>
CONTACT:Ova adresa el. pošte je zaštićena od spambotova. Omogućite JavaScript da biste je vidjeli.
				document.getElementById('cloak9769f8959d30cde7960bb9d6fd5c978b').innerHTML = '';
				var prefix = '&#109;a' + 'i&#108;' + '&#116;o';
				var path = 'hr' + 'ef' + '=';
				var addy9769f8959d30cde7960bb9d6fd5c978b = 'm&#97;rk&#101;t&#105;ng' + '&#64;';
				addy9769f8959d30cde7960bb9d6fd5c978b = addy9769f8959d30cde7960bb9d6fd5c978b + 'npm' + '&#46;' + 'b&#97;';
				var addy_text9769f8959d30cde7960bb9d6fd5c978b = 'm&#97;rk&#101;t&#105;ng' + '&#64;' + 'npm' + '&#46;' + 'b&#97;';document.getElementById('cloak9769f8959d30cde7960bb9d6fd5c978b').innerHTML += '<a ' + path + '\'' + prefix + ':' + addy9769f8959d30cde7960bb9d6fd5c978b + '\'>'+addy_text9769f8959d30cde7960bb9d6fd5c978b+'';
		
DTSTAMP:20260421T070634Z
DTSTART;TZID=Europe/Sarajevo:20250519T200000
DTEND;TZID=Europe/Sarajevo:20250519T210000
SEQUENCE:0
TRANSP:OPAQUE
END:VEVENT
END:VCALENDAR