BEGIN:VCALENDAR
VERSION:2.0
PRODID:-//jEvents 2.0 for Joomla//EN
CALSCALE:GREGORIAN
METHOD:PUBLISH
BEGIN:VTIMEZONE
TZID:Europe/Sarajevo
END:VTIMEZONE
BEGIN:VEVENT
UID:ee27b4b39a4a8a02af2ac540f3a57caf
CATEGORIES:Program
CREATED:20250425T155915
SUMMARY:Armagedonci
LOCATION:Velika scena
DESCRIPTION:<p>"Armagedonci"<br />Autor: Sanja Milardović<br />Režija: Sanja Milardović
 <br />Produkcija: Teatar EXIT u.o.</p>
CONTACT:Ova adresa el. pošte je zaštićena od spambotova. Omogućite JavaScript da biste je vidjeli.
				document.getElementById('cloak608368ac3deae7a36fc0ab617be035e6').innerHTML = '';
				var prefix = '&#109;a' + 'i&#108;' + '&#116;o';
				var path = 'hr' + 'ef' + '=';
				var addy608368ac3deae7a36fc0ab617be035e6 = 'm&#97;rk&#101;t&#105;ng' + '&#64;';
				addy608368ac3deae7a36fc0ab617be035e6 = addy608368ac3deae7a36fc0ab617be035e6 + 'npm' + '&#46;' + 'b&#97;';
				var addy_text608368ac3deae7a36fc0ab617be035e6 = 'm&#97;rk&#101;t&#105;ng' + '&#64;' + 'npm' + '&#46;' + 'b&#97;';document.getElementById('cloak608368ac3deae7a36fc0ab617be035e6').innerHTML += '<a ' + path + '\'' + prefix + ':' + addy608368ac3deae7a36fc0ab617be035e6 + '\'>'+addy_text608368ac3deae7a36fc0ab617be035e6+'';
		
DTSTAMP:20260421T071813Z
DTSTART;TZID=Europe/Sarajevo:20250518T200000
DTEND;TZID=Europe/Sarajevo:20250518T210000
SEQUENCE:0
TRANSP:OPAQUE
END:VEVENT
END:VCALENDAR