BEGIN:VCALENDAR
VERSION:2.0
PRODID:-//jEvents 2.0 for Joomla//EN
CALSCALE:GREGORIAN
METHOD:PUBLISH
BEGIN:VTIMEZONE
TZID:Europe/Sarajevo
END:VTIMEZONE
BEGIN:VEVENT
UID:42bf2848fcaba406ad28ce2e57c811d8
CATEGORIES:Program
CREATED:20250425T155852
SUMMARY:Seljačka opera
LOCATION:Velika scena
DESCRIPTION:"Seljačka opera"\nAutor: D. Benedik – B. Pinter\nRežija: Andraš Urban\nProd
 ukcija: Narodno pozorište Sarajevo\n
CONTACT:Ova adresa el. pošte je zaštićena od spambotova. Omogućite JavaScript da biste je vidjeli.
				document.getElementById('cloakd36f23033e9d09064953749f13fcb17b').innerHTML = '';
				var prefix = '&#109;a' + 'i&#108;' + '&#116;o';
				var path = 'hr' + 'ef' + '=';
				var addyd36f23033e9d09064953749f13fcb17b = 'm&#97;rk&#101;t&#105;ng' + '&#64;';
				addyd36f23033e9d09064953749f13fcb17b = addyd36f23033e9d09064953749f13fcb17b + 'npm' + '&#46;' + 'b&#97;';
				var addy_textd36f23033e9d09064953749f13fcb17b = 'm&#97;rk&#101;t&#105;ng' + '&#64;' + 'npm' + '&#46;' + 'b&#97;';document.getElementById('cloakd36f23033e9d09064953749f13fcb17b').innerHTML += '<a ' + path + '\'' + prefix + ':' + addyd36f23033e9d09064953749f13fcb17b + '\'>'+addy_textd36f23033e9d09064953749f13fcb17b+'';
		
DTSTAMP:20260421T070419Z
DTSTART;TZID=Europe/Sarajevo:20250517T200000
DTEND;TZID=Europe/Sarajevo:20250517T210000
SEQUENCE:0
TRANSP:OPAQUE
END:VEVENT
END:VCALENDAR