BEGIN:VCALENDAR
VERSION:2.0
PRODID:-//jEvents 2.0 for Joomla//EN
CALSCALE:GREGORIAN
METHOD:PUBLISH
BEGIN:VTIMEZONE
TZID:Europe/Sarajevo
END:VTIMEZONE
BEGIN:VEVENT
UID:8188e93b24307cbf1fc898a1f74c6389
CATEGORIES:Program
CREATED:20250305T190013
SUMMARY:Hasanaginica
LOCATION:Velika scena
DESCRIPTION:„Meni kao autoru dramskog teksta, bilo je važnije ispričati priču koju ne z
 namo, a možemo naslutiti, nego onu koju smo saznali iz same balade i koja n
 as vodi do poznatog tragičnog kraja. Poštujući sadržajno, stilski i epohaln
 o samu baladu 'Hasanaginica', ovaj tekst, a na kraju i sama predstava, je i
  propitivanje političke, društvene, klasne i sociološke stvarnosti na primj
 erima koji se stoljećima ponavljaju na ovim prostorima, što vrlo često, pa 
 i na primjeru same 'Hasanaginice', sa sobom nosi žrtve i stradanja, a poslj
 ednja žrtva, barem u našem slučaju, jeste sama ljubav“, zapisao je o predst
 avi autor Mirza Begović.\n \nGlumačku postavu čine Adna Kaknjo, Irfan Kasum
 ović, Remira Osmanović, Nusmir Muharemović, Emir Sejfić, Mirza Ćatibušić, Z
 erina Mujkić i Nermin Hodžić. Predstava „Hasanaginica“ nastala je u koprodu
 kciji Narodnog pozorišta u Mostaru, Narodnog pozorišta Tuzla i Bosanskog na
 rodnog pozorišta Zenica, dok je nosilac projekta i producent BKC „Alija Ize
 tbegović“ Kalesija.\n \nSvi koji ne uspiju doći do svojih ulaznica za naved
 eni termin, predstavu će moći pogledati i u petak, 28.03., sa početkom u 20
  sati. Također, sa navedenom predstavom planirano je i gostovanje u četvrta
 k, 13.03., u Maglaju.\n
CONTACT:Ova adresa el. pošte je zaštićena od spambotova. Omogućite JavaScript da biste je vidjeli.
				document.getElementById('cloak7d62d0c31349b518e54a27ed8e77b86b').innerHTML = '';
				var prefix = '&#109;a' + 'i&#108;' + '&#116;o';
				var path = 'hr' + 'ef' + '=';
				var addy7d62d0c31349b518e54a27ed8e77b86b = 'm&#97;rk&#101;t&#105;ng' + '&#64;';
				addy7d62d0c31349b518e54a27ed8e77b86b = addy7d62d0c31349b518e54a27ed8e77b86b + 'npm' + '&#46;' + 'b&#97;';
				var addy_text7d62d0c31349b518e54a27ed8e77b86b = 'm&#97;rk&#101;t&#105;ng' + '&#64;' + 'npm' + '&#46;' + 'b&#97;';document.getElementById('cloak7d62d0c31349b518e54a27ed8e77b86b').innerHTML += '<a ' + path + '\'' + prefix + ':' + addy7d62d0c31349b518e54a27ed8e77b86b + '\'>'+addy_text7d62d0c31349b518e54a27ed8e77b86b+'';
		
X-EXTRAINFO:Ulaznice za sve izvedbe su u prodaji na blagajni NPM-a svakim radnim danom 
 od 10:30 do 14 sati, na dan igranja predstave od 10:30 do 14:00 sati, te od
  18:00 do 20:00 sati.. Rezervacije: na broj 036/550-128, mail: Ova adresa e
 l. pošte je zaštićena od spambotova. Omogućite JavaScript da biste je vidje
 li.
				document.getElementById('cloakb668742c76f33099f178ec447ae87382').in
 nerHTML = '';
				var prefix = '&#109;a' + 'i&#108;' + '&#116;o';
				var p
 ath = 'hr' + 'ef' + '=';
				var addyb668742c76f33099f178ec447ae87382 = 'm&
 #97;rk&#101;t&#105;ng' + '&#64;';
				addyb668742c76f33099f178ec447ae87382 
 = addyb668742c76f33099f178ec447ae87382 + 'npm' + '&#46;' + 'b&#97;';
				va
 r addy_textb668742c76f33099f178ec447ae87382 = 'm&#97;rk&#101;t&#105;ng' + '
 &#64;' + 'npm' + '&#46;' + 'b&#97;';document.getElementById('cloakb668742c7
 6f33099f178ec447ae87382').innerHTML += '<a ' + path + '\'' + prefix + ':' +
  addyb668742c76f33099f178ec447ae87382 + '\'>'+addy_textb668742c76f33099f178
 ec447ae87382+'';
		, porukom u inbox na Facebook ili Instagram stranici Nar
 odnog pozorišta Mostar.
DTSTAMP:20260421T133954Z
DTSTART;TZID=Europe/Sarajevo:20250328T200000
DTEND;TZID=Europe/Sarajevo:20250328T210000
SEQUENCE:0
TRANSP:OPAQUE
END:VEVENT
END:VCALENDAR