BEGIN:VCALENDAR
VERSION:2.0
PRODID:-//jEvents 2.0 for Joomla//EN
CALSCALE:GREGORIAN
METHOD:PUBLISH
BEGIN:VTIMEZONE
TZID:Europe/Sarajevo
END:VTIMEZONE
BEGIN:VEVENT
UID:f6a429bb5ecfbbe5ea3096c2d274b445
CATEGORIES:Program
CREATED:20250305T185230
SUMMARY:Hasanaginica
LOCATION:Velika scena
DESCRIPTION:<p>„Meni kao autoru dramskog teksta, bilo je važnije ispričati priču koju n
 e znamo, a možemo naslutiti, nego onu koju smo saznali iz same balade i koj
 a nas vodi do poznatog tragičnog kraja. Poštujući sadržajno, stilski i epoh
 alno samu baladu 'Hasanaginica', ovaj tekst, a na kraju i sama predstava, j
 e i propitivanje političke, društvene, klasne i sociološke stvarnosti na pr
 imjerima koji se stoljećima ponavljaju na ovim prostorima, što vrlo često, 
 pa i na primjeru same 'Hasanaginice', sa sobom nosi žrtve i stradanja, a po
 sljednja žrtva, barem u našem slučaju, jeste sama ljubav“, zapisao je o pre
 dstavi autor Mirza Begović.</p><p> </p><p>Glumačku postavu čine Adna Kaknjo
 , Irfan Kasumović, Remira Osmanović, Nusmir Muharemović, Emir Sejfić, Mirza
  Ćatibušić, Zerina Mujkić i Nermin Hodžić. Predstava „Hasanaginica“ nastala
  je u koprodukciji Narodnog pozorišta u Mostaru, Narodnog pozorišta Tuzla i
  Bosanskog narodnog pozorišta Zenica, dok je nosilac projekta i producent B
 KC „Alija Izetbegović“ Kalesija.</p><p> </p><p>Svi koji ne uspiju doći do s
 vojih ulaznica za navedeni termin, predstavu će moći pogledati i <strong>u 
 petak, 28.03.,</strong> sa početkom <strong>u 20 sati</strong>. Također, sa
  navedenom predstavom planirano je i gostovanje u četvrtak, 13.03., u Magla
 ju.</p>
CONTACT:Ova adresa el. pošte je zaštićena od spambotova. Omogućite JavaScript da biste je vidjeli.
				document.getElementById('cloak59e665bf8a469494a304ad7223e5a87d').innerHTML = '';
				var prefix = '&#109;a' + 'i&#108;' + '&#116;o';
				var path = 'hr' + 'ef' + '=';
				var addy59e665bf8a469494a304ad7223e5a87d = 'm&#97;rk&#101;t&#105;ng' + '&#64;';
				addy59e665bf8a469494a304ad7223e5a87d = addy59e665bf8a469494a304ad7223e5a87d + 'npm' + '&#46;' + 'b&#97;';
				var addy_text59e665bf8a469494a304ad7223e5a87d = 'm&#97;rk&#101;t&#105;ng' + '&#64;' + 'npm' + '&#46;' + 'b&#97;';document.getElementById('cloak59e665bf8a469494a304ad7223e5a87d').innerHTML += '<a ' + path + '\'' + prefix + ':' + addy59e665bf8a469494a304ad7223e5a87d + '\'>'+addy_text59e665bf8a469494a304ad7223e5a87d+'';
		
X-EXTRAINFO:Ulaznice za sve izvedbe su u prodaji na blagajni NPM-a svakim radnim danom 
 od 10:30 do 14 sati, na dan igranja predstave od 10:30 do 14:00 sati, te od
  18:00 do 20:00 sati.. Rezervacije: na broj 036/550-128, mail: Ova adresa e
 l. pošte je zaštićena od spambotova. Omogućite JavaScript da biste je vidje
 li.
				document.getElementById('cloak96abf6155534bf28746fae1d80574b49').in
 nerHTML = '';
				var prefix = '&#109;a' + 'i&#108;' + '&#116;o';
				var p
 ath = 'hr' + 'ef' + '=';
				var addy96abf6155534bf28746fae1d80574b49 = 'm&
 #97;rk&#101;t&#105;ng' + '&#64;';
				addy96abf6155534bf28746fae1d80574b49 
 = addy96abf6155534bf28746fae1d80574b49 + 'npm' + '&#46;' + 'b&#97;';
				va
 r addy_text96abf6155534bf28746fae1d80574b49 = 'm&#97;rk&#101;t&#105;ng' + '
 &#64;' + 'npm' + '&#46;' + 'b&#97;';document.getElementById('cloak96abf6155
 534bf28746fae1d80574b49').innerHTML += '<a ' + path + '\'' + prefix + ':' +
  addy96abf6155534bf28746fae1d80574b49 + '\'>'+addy_text96abf6155534bf28746f
 ae1d80574b49+'';
		, porukom u inbox na Facebook ili Instagram stranici Nar
 odnog pozorišta Mostar.
DTSTAMP:20260421T134425Z
DTSTART;TZID=Europe/Sarajevo:20250321T200000
DTEND;TZID=Europe/Sarajevo:20250321T210000
SEQUENCE:0
TRANSP:OPAQUE
END:VEVENT
END:VCALENDAR