BEGIN:VCALENDAR
VERSION:2.0
PRODID:-//jEvents 2.0 for Joomla//EN
CALSCALE:GREGORIAN
METHOD:PUBLISH
BEGIN:VTIMEZONE
TZID:Europe/Sarajevo
END:VTIMEZONE
BEGIN:VEVENT
UID:074820a5f92eeb02a7a47d1518e413da
CATEGORIES:Program
CREATED:20250305T185028
SUMMARY:Ludilo u …
LOCATION:Studio 64
DESCRIPTION:„'Ludilo u ...' je predstava u kojoj tretiramo Joneskov predložak kao polaz
 nu tačku za predstavu koja se bavi zajednicom između muškarca i žene. Kolik
 o se pojam zajednice promijenio i koliko je drugačiji danas? Koliko geograf
 ija u tome ima udjela? Da li je danas zajednica zapravo samo klasno pitanje
 ? Koliko je potrebno strpljenja da bi se jednostavno - smijali? Zašto se uv
 ijek smijemo samima sebi, a rijetko mijenjamo upravo sve te stereotipe? Jon
 esko i teatar apsurda gotovo se idilično uklapaju u situaciju u kojoj zajed
 nice trpe različite vidove pritiska. Insistiramo na čovjeku–pojedincu, kole
 ktivni uspjeh gotovo i da ne postoji nigdje sem u sportu, a isti taj čovjek
  nikad nije bio usamljeniji.  Smijati se ne možemo sami sa sobom, a ako se 
 to i desi, rijetko je i na nivou slučaja. Ova predstava ima za cilj da nas 
 podsjeti kako to izgleda smijati se. A poslije, možda nešto i promijeniti“,
  zapisala je o predstavi dramaturginja Jelena Paligorić Sinkević.\nU predst
 avi igraju: Nikolina Marić, Vedran Vilogorac i Damir Čobo.\n
CONTACT:Ova adresa el. pošte je zaštićena od spambotova. Omogućite JavaScript da biste je vidjeli.
				document.getElementById('cloak3aabdcfc4ac8ed61c486528950ba3c2a').innerHTML = '';
				var prefix = '&#109;a' + 'i&#108;' + '&#116;o';
				var path = 'hr' + 'ef' + '=';
				var addy3aabdcfc4ac8ed61c486528950ba3c2a = 'm&#97;rk&#101;t&#105;ng' + '&#64;';
				addy3aabdcfc4ac8ed61c486528950ba3c2a = addy3aabdcfc4ac8ed61c486528950ba3c2a + 'npm' + '&#46;' + 'b&#97;';
				var addy_text3aabdcfc4ac8ed61c486528950ba3c2a = 'm&#97;rk&#101;t&#105;ng' + '&#64;' + 'npm' + '&#46;' + 'b&#97;';document.getElementById('cloak3aabdcfc4ac8ed61c486528950ba3c2a').innerHTML += '<a ' + path + '\'' + prefix + ':' + addy3aabdcfc4ac8ed61c486528950ba3c2a + '\'>'+addy_text3aabdcfc4ac8ed61c486528950ba3c2a+'';
		
X-EXTRAINFO:Ulaznice za sve izvedbe su u prodaji na blagajni NPM-a svakim radnim danom 
 od 10:30 do 14 sati, na dan igranja predstave od 10:30 do 14:00 sati, te od
  18:00 do 20:00 sati.. Rezervacije: na broj 036/550-128, mail: Ova adresa e
 l. pošte je zaštićena od spambotova. Omogućite JavaScript da biste je vidje
 li.
				document.getElementById('cloak4ef621a398592d004d243357fddbc040').in
 nerHTML = '';
				var prefix = '&#109;a' + 'i&#108;' + '&#116;o';
				var p
 ath = 'hr' + 'ef' + '=';
				var addy4ef621a398592d004d243357fddbc040 = 'm&
 #97;rk&#101;t&#105;ng' + '&#64;';
				addy4ef621a398592d004d243357fddbc040 
 = addy4ef621a398592d004d243357fddbc040 + 'npm' + '&#46;' + 'b&#97;';
				va
 r addy_text4ef621a398592d004d243357fddbc040 = 'm&#97;rk&#101;t&#105;ng' + '
 &#64;' + 'npm' + '&#46;' + 'b&#97;';document.getElementById('cloak4ef621a39
 8592d004d243357fddbc040').innerHTML += '<a ' + path + '\'' + prefix + ':' +
  addy4ef621a398592d004d243357fddbc040 + '\'>'+addy_text4ef621a398592d004d24
 3357fddbc040+'';
		, porukom u inbox na Facebook ili Instagram stranici Nar
 odnog pozorišta Mostar.
DTSTAMP:20260421T133954Z
DTSTART;TZID=Europe/Sarajevo:20250307T200000
DTEND;TZID=Europe/Sarajevo:20250307T210000
SEQUENCE:0
TRANSP:OPAQUE
END:VEVENT
END:VCALENDAR