BEGIN:VCALENDAR
VERSION:2.0
PRODID:-//jEvents 2.0 for Joomla//EN
CALSCALE:GREGORIAN
METHOD:PUBLISH
BEGIN:VTIMEZONE
TZID:Europe/Sarajevo
END:VTIMEZONE
BEGIN:VEVENT
UID:d6fe9f3832acd9f5d2f0c59e35b59304
CATEGORIES:Program
CREATED:20250213T171840
SUMMARY:Kakva ti je žena, takav ti je život
LOCATION:Velika scena
DESCRIPTION:Na Veliku scenu Narodnog pozorišta u Mostaru, u ponedjeljak, 24.02., stiže 
 popularni Dragan Marinković Maca sa hit komedijom Odgovore na vječna pitanj
 a o odnosu između muškarca i žene, Dragan Marinković-Maca donosi na origina
 lan i samo njemu svojstven način.\n
CONTACT:Ova adresa el. pošte je zaštićena od spambotova. Omogućite JavaScript da biste je vidjeli.
				document.getElementById('cloak196590079336117dc7f3242a412ec25c').innerHTML = '';
				var prefix = '&#109;a' + 'i&#108;' + '&#116;o';
				var path = 'hr' + 'ef' + '=';
				var addy196590079336117dc7f3242a412ec25c = 'm&#97;rk&#101;t&#105;ng' + '&#64;';
				addy196590079336117dc7f3242a412ec25c = addy196590079336117dc7f3242a412ec25c + 'npm' + '&#46;' + 'b&#97;';
				var addy_text196590079336117dc7f3242a412ec25c = 'm&#97;rk&#101;t&#105;ng' + '&#64;' + 'npm' + '&#46;' + 'b&#97;';document.getElementById('cloak196590079336117dc7f3242a412ec25c').innerHTML += '<a ' + path + '\'' + prefix + ':' + addy196590079336117dc7f3242a412ec25c + '\'>'+addy_text196590079336117dc7f3242a412ec25c+'';
		
X-EXTRAINFO:Cijena regularne ulaznice iznosi 20 KM, a VIP ulaznice 30 KM.
DTSTAMP:20260421T151424Z
DTSTART;TZID=Europe/Sarajevo:20250224T190000
DTEND;TZID=Europe/Sarajevo:20250224T200000
SEQUENCE:0
TRANSP:OPAQUE
END:VEVENT
END:VCALENDAR