BEGIN:VCALENDAR
VERSION:2.0
PRODID:-//jEvents 2.0 for Joomla//EN
CALSCALE:GREGORIAN
METHOD:PUBLISH
BEGIN:VTIMEZONE
TZID:Europe/Sarajevo
END:VTIMEZONE
BEGIN:VEVENT
UID:097e6f8e044deba86ab399db9d2391d7
CATEGORIES:Program
CREATED:20250213T171749
SUMMARY:Ne igraj na Engleze
LOCATION:Velika scena
DESCRIPTION:<p>Predstava „Ne igraj na Engleze“  Vladimira Đurđevića, u režiji Emira Spa
 hića, na zanimljiv, ozbiljan, ironičan i duhovit način govori o jednom od g
 orućih problema bh. društva – kockanju i ovisnosti o klađenju. Trojica najb
 oljih prijatelja iz djetinjstva – Paun, Piksi i Bule – čekaju ishod jedne u
 takmice koja ih dijeli od željenog dobitka, a na koju su se sva trojica raz
 ličito kladila. Od tog jednog rezultata njih trojica očekuju rješenje svih 
 svojih problema. Drži ih zajednička ovisnost i iluzija kako jedan dobitak s
 ve rješava, kako zadovoljstvo jednog dobitka poništava sva životna nezadovo
 ljstva, kako taj jedan pogodak briše sve promašaje. U tom iščekivanju oni o
 tkrivaju sve svoje strahove i nade, na vidjelo izlaze njihove mračne tajne,
  njihove nade i snovi o sreći ...</p><p>U predstavi igraju: Emir Spahić, Iv
 an Skoko i Emir Sejfić</p>
CONTACT:Ova adresa el. pošte je zaštićena od spambotova. Omogućite JavaScript da biste je vidjeli.
				document.getElementById('cloake1365e8b87f26933665e7609b14c7b1e').innerHTML = '';
				var prefix = '&#109;a' + 'i&#108;' + '&#116;o';
				var path = 'hr' + 'ef' + '=';
				var addye1365e8b87f26933665e7609b14c7b1e = 'm&#97;rk&#101;t&#105;ng' + '&#64;';
				addye1365e8b87f26933665e7609b14c7b1e = addye1365e8b87f26933665e7609b14c7b1e + 'npm' + '&#46;' + 'b&#97;';
				var addy_texte1365e8b87f26933665e7609b14c7b1e = 'm&#97;rk&#101;t&#105;ng' + '&#64;' + 'npm' + '&#46;' + 'b&#97;';document.getElementById('cloake1365e8b87f26933665e7609b14c7b1e').innerHTML += '<a ' + path + '\'' + prefix + ':' + addye1365e8b87f26933665e7609b14c7b1e + '\'>'+addy_texte1365e8b87f26933665e7609b14c7b1e+'';
		
X-EXTRAINFO:Cijena: 10 KM, sa popustom za učenike, studente i penzionere 5 KM
DTSTAMP:20260421T165319Z
DTSTART;TZID=Europe/Sarajevo:20250221T200000
DTEND;TZID=Europe/Sarajevo:20250221T210000
SEQUENCE:0
TRANSP:OPAQUE
END:VEVENT
END:VCALENDAR