BEGIN:VCALENDAR
VERSION:2.0
PRODID:-//jEvents 2.0 for Joomla//EN
CALSCALE:GREGORIAN
METHOD:PUBLISH
BEGIN:VTIMEZONE
TZID:Europe/Sarajevo
END:VTIMEZONE
BEGIN:VEVENT
UID:e78feb5dc19fc4398dc264ec926e2bd5
CATEGORIES:Program
CREATED:20250213T171705
SUMMARY:Alfa Beta
LOCATION:Studio 64
DESCRIPTION:„Alfa Beta“ E. A. Whiteheada, u režiji Saše Oručevića, je zanimljiva, dinam
 ična i univerzalna priča o ljudskoj otuđenosti, otuđenosti od sebe i od dru
 gih. Priča o dubokim intimnih strahovima oslikanim u likovima bračnih partn
 era koji proživljavaju vlastite krize izbora i odluka koje oblikuju njihove
  živote. Propitujući smisao braka, likovi dovode pod znak pitanja i uvrijež
 ene vrijednosti koje su uz brak vezane, i postavljaju pitanje da li su naša
  očekivanja prevarena?\nIgraju Fatima Kazazić Obad i Saša Oručević\n
CONTACT:Ova adresa el. pošte je zaštićena od spambotova. Omogućite JavaScript da biste je vidjeli.
				document.getElementById('cloak99a2ceb7e8be27f6954b4e9c7672b53a').innerHTML = '';
				var prefix = '&#109;a' + 'i&#108;' + '&#116;o';
				var path = 'hr' + 'ef' + '=';
				var addy99a2ceb7e8be27f6954b4e9c7672b53a = 'm&#97;rk&#101;t&#105;ng' + '&#64;';
				addy99a2ceb7e8be27f6954b4e9c7672b53a = addy99a2ceb7e8be27f6954b4e9c7672b53a + 'npm' + '&#46;' + 'b&#97;';
				var addy_text99a2ceb7e8be27f6954b4e9c7672b53a = 'm&#97;rk&#101;t&#105;ng' + '&#64;' + 'npm' + '&#46;' + 'b&#97;';document.getElementById('cloak99a2ceb7e8be27f6954b4e9c7672b53a').innerHTML += '<a ' + path + '\'' + prefix + ':' + addy99a2ceb7e8be27f6954b4e9c7672b53a + '\'>'+addy_text99a2ceb7e8be27f6954b4e9c7672b53a+'';
		
X-EXTRAINFO:Cijena: 10 KM, sa popustom za učenike, studente i penzionere 5 KM
DTSTAMP:20260421T165738Z
DTSTART;TZID=Europe/Sarajevo:20250214T200000
DTEND;TZID=Europe/Sarajevo:20250214T210000
SEQUENCE:0
TRANSP:OPAQUE
END:VEVENT
END:VCALENDAR