BEGIN:VCALENDAR
VERSION:2.0
PRODID:-//jEvents 2.0 for Joomla//EN
CALSCALE:GREGORIAN
METHOD:PUBLISH
BEGIN:VTIMEZONE
TZID:Europe/Sarajevo
END:VTIMEZONE
BEGIN:VEVENT
UID:29d8198b54fa78336205d1a11540751c
CATEGORIES:Program
CREATED:20250129T114508
SUMMARY:Hasanaginica
LOCATION:Velika scena
DESCRIPTION:Na Velikoj sceni Narodnog pozorišta u Mostaru, u petak, 31.01., bit će odig
 rana predstava „Hasanaginica“ autora Mirze Begovića, u režiji Irfana Kasumo
 vića, sa početkom u 20 sati.\nGlumačku postavu čine Adna Kaknjo, Irfan Kasu
 mović, Remira Osmanović, Nusmir Muharemović, Emir Sejfić, Mirza Ćatibušić, 
 Zerina Mujkić i Nermin Hodžić.\nPredstava „Hasanaginica“ nastala je u kopro
 dukciji Narodnog pozorišta u Mostaru, Narodnog pozorišta Tuzla i Bosanskog 
 narodnog pozorišta Zenica, dok je nosilac projekta i producent BKC „Alija I
 zetbegović“ Kalesija.\n
CONTACT:Ova adresa el. pošte je zaštićena od spambotova. Omogućite JavaScript da biste je vidjeli.
				document.getElementById('cloak22df081cdf280609030898720c1274b9').innerHTML = '';
				var prefix = '&#109;a' + 'i&#108;' + '&#116;o';
				var path = 'hr' + 'ef' + '=';
				var addy22df081cdf280609030898720c1274b9 = 'm&#97;rk&#101;t&#105;ng' + '&#64;';
				addy22df081cdf280609030898720c1274b9 = addy22df081cdf280609030898720c1274b9 + 'npm' + '&#46;' + 'b&#97;';
				var addy_text22df081cdf280609030898720c1274b9 = 'm&#97;rk&#101;t&#105;ng' + '&#64;' + 'npm' + '&#46;' + 'b&#97;';document.getElementById('cloak22df081cdf280609030898720c1274b9').innerHTML += '<a ' + path + '\'' + prefix + ':' + addy22df081cdf280609030898720c1274b9 + '\'>'+addy_text22df081cdf280609030898720c1274b9+'';
		
X-EXTRAINFO:ULAZNICE su u prodaji na blagajni NPM-a svakim radnim danom od 10:30 do 14:
 00 sati, na dan igranja predstave od 10:30 do 14:00 sati, te od 18:00 do 20
 :00 sati. Rezervacije: na broj 036/550-128, mail: Ova adresa el. pošte je z
 aštićena od spambotova. Omogućite JavaScript da biste je vidjeli.
				docum
 ent.getElementById('cloakcc365e5de909efe91e56ba2a1b4b078f').innerHTML = '';
 
				var prefix = '&#109;a' + 'i&#108;' + '&#116;o';
				var path = 'hr' + 
 'ef' + '=';
				var addycc365e5de909efe91e56ba2a1b4b078f = 'm&#97;rk&#101;t
 &#105;ng' + '&#64;';
				addycc365e5de909efe91e56ba2a1b4b078f = addycc365e5
 de909efe91e56ba2a1b4b078f + 'npm' + '&#46;' + 'b&#97;';
				var addy_textcc
 365e5de909efe91e56ba2a1b4b078f = 'm&#97;rk&#101;t&#105;ng' + '&#64;' + 'npm
 ' + '&#46;' + 'b&#97;';document.getElementById('cloakcc365e5de909efe91e56ba
 2a1b4b078f').innerHTML += '<a ' + path + '\'' + prefix + ':' + addycc365e5d
 e909efe91e56ba2a1b4b078f + '\'>'+addy_textcc365e5de909efe91e56ba2a1b4b078f+
 '';
		, porukom u inbox na Facebook ili Instagram stranici Narodnog pozoriš
 ta Mostar.
DTSTAMP:20260421T185028Z
DTSTART;TZID=Europe/Sarajevo:20250131T200000
DTEND;TZID=Europe/Sarajevo:20250131T210000
SEQUENCE:0
TRANSP:OPAQUE
END:VEVENT
END:VCALENDAR