BEGIN:VCALENDAR
VERSION:2.0
PRODID:-//jEvents 2.0 for Joomla//EN
CALSCALE:GREGORIAN
METHOD:PUBLISH
BEGIN:VTIMEZONE
TZID:Europe/Sarajevo
END:VTIMEZONE
BEGIN:VEVENT
UID:2957f1b645b3b1acb091fd0b642ec5ec
CATEGORIES:Program
CREATED:20241127T165805
SUMMARY:Hasanaginica - premijera
LOCATION:Velika scena
DESCRIPTION:Premijera predstave "Hasanaginica" autora Mirze Begovića u režiji Ahmeda Im
 amovića. \nProdukcija: Narodno pozorište u Mostaru, BKC "Alija Izetbegović"
  Kalesija, Narodno pozorište Tuzla, Bosansko narodno pozorište Zenica.\n
CONTACT:Ova adresa el. pošte je zaštićena od spambotova. Omogućite JavaScript da biste je vidjeli.
				document.getElementById('cloak2c976b275dda2f5d6f99284819178b92').innerHTML = '';
				var prefix = '&#109;a' + 'i&#108;' + '&#116;o';
				var path = 'hr' + 'ef' + '=';
				var addy2c976b275dda2f5d6f99284819178b92 = 'm&#97;rk&#101;t&#105;ng' + '&#64;';
				addy2c976b275dda2f5d6f99284819178b92 = addy2c976b275dda2f5d6f99284819178b92 + 'npm' + '&#46;' + 'b&#97;';
				var addy_text2c976b275dda2f5d6f99284819178b92 = 'm&#97;rk&#101;t&#105;ng' + '&#64;' + 'npm' + '&#46;' + 'b&#97;';document.getElementById('cloak2c976b275dda2f5d6f99284819178b92').innerHTML += '<a ' + path + '\'' + prefix + ':' + addy2c976b275dda2f5d6f99284819178b92 + '\'>'+addy_text2c976b275dda2f5d6f99284819178b92+'';
		
DTSTAMP:20260422T011211Z
DTSTART;TZID=Europe/Sarajevo:20241227T200000
DTEND;TZID=Europe/Sarajevo:20241227T210000
SEQUENCE:0
TRANSP:OPAQUE
END:VEVENT
END:VCALENDAR