BEGIN:VCALENDAR
VERSION:2.0
PRODID:-//jEvents 2.0 for Joomla//EN
CALSCALE:GREGORIAN
METHOD:PUBLISH
BEGIN:VTIMEZONE
TZID:Europe/Sarajevo
END:VTIMEZONE
BEGIN:VEVENT
UID:01bb24e8f659f2b2108c307b5c200831
CATEGORIES:Program
CREATED:20241127T165633
SUMMARY:Drama o Mirjani i ovima oko nje
LOCATION:Velika scena
DESCRIPTION:"Drama o Mirjani i ovima oko nje"\nautor: Ivor Martinović\nrežiser: Nermin 
 Hamzagić\nprodukcija: Bosansko narodno pozorište Zenica\n
CONTACT:Ova adresa el. pošte je zaštićena od spambotova. Omogućite JavaScript da biste je vidjeli.
				document.getElementById('cloak32483dc1f4c5f5ca1f74c019d72cbcc9').innerHTML = '';
				var prefix = '&#109;a' + 'i&#108;' + '&#116;o';
				var path = 'hr' + 'ef' + '=';
				var addy32483dc1f4c5f5ca1f74c019d72cbcc9 = 'm&#97;rk&#101;t&#105;ng' + '&#64;';
				addy32483dc1f4c5f5ca1f74c019d72cbcc9 = addy32483dc1f4c5f5ca1f74c019d72cbcc9 + 'npm' + '&#46;' + 'b&#97;';
				var addy_text32483dc1f4c5f5ca1f74c019d72cbcc9 = 'm&#97;rk&#101;t&#105;ng' + '&#64;' + 'npm' + '&#46;' + 'b&#97;';document.getElementById('cloak32483dc1f4c5f5ca1f74c019d72cbcc9').innerHTML += '<a ' + path + '\'' + prefix + ':' + addy32483dc1f4c5f5ca1f74c019d72cbcc9 + '\'>'+addy_text32483dc1f4c5f5ca1f74c019d72cbcc9+'';
		
X-EXTRAINFO:Ulaz besplatan
DTSTAMP:20260422T011258Z
DTSTART;TZID=Europe/Sarajevo:20241220T200000
DTEND;TZID=Europe/Sarajevo:20241220T210000
SEQUENCE:0
TRANSP:OPAQUE
END:VEVENT
END:VCALENDAR