BEGIN:VCALENDAR
VERSION:2.0
PRODID:-//jEvents 2.0 for Joomla//EN
CALSCALE:GREGORIAN
METHOD:PUBLISH
BEGIN:VTIMEZONE
TZID:Europe/Sarajevo
END:VTIMEZONE
BEGIN:VEVENT
UID:31bedb60a577a032f436850be6edd73a
CATEGORIES:Program
CREATED:20241127T165508
SUMMARY:Međuigre od 0-24
LOCATION:Velika scena
DESCRIPTION:"Međuigre od 0-24" Zijah Sokolović\n
CONTACT:Ova adresa el. pošte je zaštićena od spambotova. Omogućite JavaScript da biste je vidjeli.
				document.getElementById('cloak398ada16ada8eb4b2f6d1f5801cbe3b6').innerHTML = '';
				var prefix = '&#109;a' + 'i&#108;' + '&#116;o';
				var path = 'hr' + 'ef' + '=';
				var addy398ada16ada8eb4b2f6d1f5801cbe3b6 = 'm&#97;rk&#101;t&#105;ng' + '&#64;';
				addy398ada16ada8eb4b2f6d1f5801cbe3b6 = addy398ada16ada8eb4b2f6d1f5801cbe3b6 + 'npm' + '&#46;' + 'b&#97;';
				var addy_text398ada16ada8eb4b2f6d1f5801cbe3b6 = 'm&#97;rk&#101;t&#105;ng' + '&#64;' + 'npm' + '&#46;' + 'b&#97;';document.getElementById('cloak398ada16ada8eb4b2f6d1f5801cbe3b6').innerHTML += '<a ' + path + '\'' + prefix + ':' + addy398ada16ada8eb4b2f6d1f5801cbe3b6 + '\'>'+addy_text398ada16ada8eb4b2f6d1f5801cbe3b6+'';
		
X-EXTRAINFO:ULAZ BESPLATAN
DTSTAMP:20260422T011258Z
DTSTART;TZID=Europe/Sarajevo:20241206T200000
DTEND;TZID=Europe/Sarajevo:20241206T210000
SEQUENCE:0
TRANSP:OPAQUE
END:VEVENT
END:VCALENDAR