BEGIN:VCALENDAR
VERSION:2.0
PRODID:-//jEvents 2.0 for Joomla//EN
CALSCALE:GREGORIAN
METHOD:PUBLISH
BEGIN:VTIMEZONE
TZID:Europe/Sarajevo
END:VTIMEZONE
BEGIN:VEVENT
UID:b2aefa7d985d101c2931b8de711e0b3c
CATEGORIES:Program
CREATED:20241127T165415
SUMMARY:Svečana akademija - 75 godina Pozorišta
LOCATION:Velika scena
DESCRIPTION:Svečana akademija povodom 75 godina Narodnog pozorišta u Mostaru\n\n - Izlo
 žba "75 koraka kroz vrijeme"\n - Promocija monografije "Narodno pozorište u
  Mostaru 1949. - 2024. - Sazviježđe pozorišnih vječnosti" autora Sržana Vuk
 adinovića
CONTACT:Ova adresa el. pošte je zaštićena od spambotova. Omogućite JavaScript da biste je vidjeli.
				document.getElementById('cloak7b7559688a91ce2473d01b75fe88f6c3').innerHTML = '';
				var prefix = '&#109;a' + 'i&#108;' + '&#116;o';
				var path = 'hr' + 'ef' + '=';
				var addy7b7559688a91ce2473d01b75fe88f6c3 = 'm&#97;rk&#101;t&#105;ng' + '&#64;';
				addy7b7559688a91ce2473d01b75fe88f6c3 = addy7b7559688a91ce2473d01b75fe88f6c3 + 'npm' + '&#46;' + 'b&#97;';
				var addy_text7b7559688a91ce2473d01b75fe88f6c3 = 'm&#97;rk&#101;t&#105;ng' + '&#64;' + 'npm' + '&#46;' + 'b&#97;';document.getElementById('cloak7b7559688a91ce2473d01b75fe88f6c3').innerHTML += '<a ' + path + '\'' + prefix + ':' + addy7b7559688a91ce2473d01b75fe88f6c3 + '\'>'+addy_text7b7559688a91ce2473d01b75fe88f6c3+'';
		
X-EXTRAINFO:ULAZ SLOBODAN
DTSTAMP:20260422T024813Z
DTSTART;TZID=Europe/Sarajevo:20241129T200000
DTEND;TZID=Europe/Sarajevo:20241129T210000
SEQUENCE:0
TRANSP:OPAQUE
END:VEVENT
END:VCALENDAR