BEGIN:VCALENDAR
VERSION:2.0
PRODID:-//jEvents 2.0 for Joomla//EN
CALSCALE:GREGORIAN
METHOD:PUBLISH
BEGIN:VTIMEZONE
TZID:Europe/Sarajevo
END:VTIMEZONE
BEGIN:VEVENT
UID:96ceeeb832f56183c45d01d62acc8e2b
CATEGORIES:Program
CREATED:20241029T123152
SUMMARY:Ovaj mali život
LOCATION:Velika scena
DESCRIPTION:<p>„Svaki život je priča, a svaku priču  vrijedi ispričati. Ova je o Miri. 
 Iako je ona nestala i ne možemo da je nađemo. Možda je prepoznate. Možda va
 m se još neko iz predstave učini poznat. Nije rijetkost u pozorištu sresti 
 sebe ili druge. Ako sretnete Miru, recite joj da dođe, sada u pozorištu ima
 mo malu predstavu o njenom velikom životu... Čekajte, ne... Veliku predstav
 u o njenom malom životu... Tako nekako“, zapisala je o predstavi autorica i
  režiserka Emina Kovačević-Podgorčević.</p><p>U predstavi igraju: Nikolina 
 Marić, Amela Kreso, Emir Sejfić, Mirela Mijačank Kordić i Fatima Kazazić Ob
 ad.</p>
CONTACT:Ova adresa el. pošte je zaštićena od spambotova. Omogućite JavaScript da biste je vidjeli.
				document.getElementById('cloak9f56f2fa3ce04bb3a3b916f4fe502bcb').innerHTML = '';
				var prefix = '&#109;a' + 'i&#108;' + '&#116;o';
				var path = 'hr' + 'ef' + '=';
				var addy9f56f2fa3ce04bb3a3b916f4fe502bcb = 'm&#97;rk&#101;t&#105;ng' + '&#64;';
				addy9f56f2fa3ce04bb3a3b916f4fe502bcb = addy9f56f2fa3ce04bb3a3b916f4fe502bcb + 'npm' + '&#46;' + 'b&#97;';
				var addy_text9f56f2fa3ce04bb3a3b916f4fe502bcb = 'm&#97;rk&#101;t&#105;ng' + '&#64;' + 'npm' + '&#46;' + 'b&#97;';document.getElementById('cloak9f56f2fa3ce04bb3a3b916f4fe502bcb').innerHTML += '<a ' + path + '\'' + prefix + ':' + addy9f56f2fa3ce04bb3a3b916f4fe502bcb + '\'>'+addy_text9f56f2fa3ce04bb3a3b916f4fe502bcb+'';
		
X-EXTRAINFO:Cijena ulaznice iznosi 10 KM, sa popustom za učenike, studente i penzionere
  5 KM.\nUlaznice za sve izvedbe su u prodaji na blagajni NPM-a svakim radni
 m danom od 10:30 do 14 sati.\nRezervacije: na broj 036/550-128, mail: Ova a
 dresa el. pošte je zaštićena od spambotova. Omogućite JavaScript da biste j
 e vidjeli.
				document.getElementById('cloakb3b0e825e3e84b9bb4231c5dbdaeee
 62').innerHTML = '';
				var prefix = '&#109;a' + 'i&#108;' + '&#116;o';
		
 		var path = 'hr' + 'ef' + '=';
				var addyb3b0e825e3e84b9bb4231c5dbdaeee6
 2 = 'm&#97;rk&#101;t&#105;ng' + '&#64;';
				addyb3b0e825e3e84b9bb4231c5dbd
 aeee62 = addyb3b0e825e3e84b9bb4231c5dbdaeee62 + 'npm' + '&#46;' + 'b&#97;';
 
				var addy_textb3b0e825e3e84b9bb4231c5dbdaeee62 = 'm&#97;rk&#101;t&#105;
 ng' + '&#64;' + 'npm' + '&#46;' + 'b&#97;';document.getElementById('cloakb3
 b0e825e3e84b9bb4231c5dbdaeee62').innerHTML += '<a ' + path + '\'' + prefix 
 + ':' + addyb3b0e825e3e84b9bb4231c5dbdaeee62 + '\'>'+addy_textb3b0e825e3e84
 b9bb4231c5dbdaeee62+'';
		, porukom u inbox na Facebook ili Instagram stran
 ici Narodnog pozorišta Mostar.
DTSTAMP:20260422T040628Z
DTSTART;TZID=Europe/Sarajevo:20241122T200000
DTEND;TZID=Europe/Sarajevo:20241122T210000
SEQUENCE:0
TRANSP:OPAQUE
END:VEVENT
END:VCALENDAR