BEGIN:VCALENDAR
VERSION:2.0
PRODID:-//jEvents 2.0 for Joomla//EN
CALSCALE:GREGORIAN
METHOD:PUBLISH
BEGIN:VTIMEZONE
TZID:Europe/Sarajevo
END:VTIMEZONE
BEGIN:VEVENT
UID:c19a39345971c1143319cfa9f0c773cb
CATEGORIES:Program
CREATED:20241029T123100
SUMMARY:Alfa Beta
LOCATION:Studio 64
DESCRIPTION:<p>“Alfa Beta” zanimljiva je, dinamična i univerzalna priča o ljudskoj otuđ
 enosti, otuđenosti od sebe i od drugih. Priča o dubokim intimnih strahovima
  oslikanim u likovima bračnih partnera koji proživljavaju vlastite krize iz
 bora i odluka koje oblikuju njihove živote. Propitujući smisao braka, likov
 i dovode pod znak pitanja i uvriježene vrijednosti koje su uz brak vezane, 
 i postavljaju pitanje da li su naša očekivanja prevarena?</p><p>U predstavi
  igraju Fatima Kazazić Obad i Saša Oručević.</p>
CONTACT:Ova adresa el. pošte je zaštićena od spambotova. Omogućite JavaScript da biste je vidjeli.
				document.getElementById('cloakff3711a544f59bf20195fad3e117697b').innerHTML = '';
				var prefix = '&#109;a' + 'i&#108;' + '&#116;o';
				var path = 'hr' + 'ef' + '=';
				var addyff3711a544f59bf20195fad3e117697b = 'm&#97;rk&#101;t&#105;ng' + '&#64;';
				addyff3711a544f59bf20195fad3e117697b = addyff3711a544f59bf20195fad3e117697b + 'npm' + '&#46;' + 'b&#97;';
				var addy_textff3711a544f59bf20195fad3e117697b = 'm&#97;rk&#101;t&#105;ng' + '&#64;' + 'npm' + '&#46;' + 'b&#97;';document.getElementById('cloakff3711a544f59bf20195fad3e117697b').innerHTML += '<a ' + path + '\'' + prefix + ':' + addyff3711a544f59bf20195fad3e117697b + '\'>'+addy_textff3711a544f59bf20195fad3e117697b+'';
		
X-EXTRAINFO:Cijena ulaznice iznosi 10 KM, sa popustom za učenike, studente i penzionere
  5 KM.\nUlaznice za sve izvedbe su u prodaji na blagajni NPM-a svakim radni
 m danom od 10:30 do 14 sati.\nRezervacije: na broj 036/550-128, mail: Ova a
 dresa el. pošte je zaštićena od spambotova. Omogućite JavaScript da biste j
 e vidjeli.
				document.getElementById('cloak89306337775b46d6e09ffc5ed0ed8b
 91').innerHTML = '';
				var prefix = '&#109;a' + 'i&#108;' + '&#116;o';
		
 		var path = 'hr' + 'ef' + '=';
				var addy89306337775b46d6e09ffc5ed0ed8b9
 1 = 'm&#97;rk&#101;t&#105;ng' + '&#64;';
				addy89306337775b46d6e09ffc5ed0
 ed8b91 = addy89306337775b46d6e09ffc5ed0ed8b91 + 'npm' + '&#46;' + 'b&#97;';
 
				var addy_text89306337775b46d6e09ffc5ed0ed8b91 = 'm&#97;rk&#101;t&#105;
 ng' + '&#64;' + 'npm' + '&#46;' + 'b&#97;';document.getElementById('cloak89
 306337775b46d6e09ffc5ed0ed8b91').innerHTML += '<a ' + path + '\'' + prefix 
 + ':' + addy89306337775b46d6e09ffc5ed0ed8b91 + '\'>'+addy_text89306337775b4
 6d6e09ffc5ed0ed8b91+'';
		, porukom u inbox na Facebook ili Instagram stran
 ici Narodnog pozorišta Mostar.\n
DTSTAMP:20260422T040634Z
DTSTART;TZID=Europe/Sarajevo:20241115T200000
DTEND;TZID=Europe/Sarajevo:20241115T210000
SEQUENCE:0
TRANSP:OPAQUE
END:VEVENT
END:VCALENDAR