BEGIN:VCALENDAR
VERSION:2.0
PRODID:-//jEvents 2.0 for Joomla//EN
CALSCALE:GREGORIAN
METHOD:PUBLISH
BEGIN:VTIMEZONE
TZID:Europe/Sarajevo
END:VTIMEZONE
BEGIN:VEVENT
UID:72b6b44c76ea0c409f5a1847cc884d0e
CATEGORIES:Program
CREATED:20241029T123003
SUMMARY:Ludilo u …
LOCATION:Studio 64
DESCRIPTION:<p>„'Ludilo u ...' je predstava u kojoj tretiramo Joneskov predložak kao po
 laznu tačku za predstavu koja se bavi zajednicom između muškarca i žene. Ko
 liko se pojam zajednice promijenio i koliko je drugačiji danas? Koliko geog
 rafija u tome ima udjela? Da li je danas zajednica zapravo samo klasno pita
 nje? Koliko je potrebno strpljenja da bi se jednostavno - smijali? Zašto se
  uvijek smijemo samima sebi, a rijetko mijenjamo upravo sve te stereotipe? 
 Jonesko i teatar apsurda gotovo se idilično uklapaju u situaciju u kojoj za
 jednice trpe različite vidove pritiska. Insistiramo na čovjeku–pojedincu, k
 olektivni uspjeh gotovo i da ne postoji nigdje sem u sportu, a isti taj čov
 jek nikad nije bio usamljeniji.  Smijati se ne možemo sami sa sobom, a ako 
 se to i desi, rijetko je i na nivou slučaja. Ova predstava ima za cilj da n
 as podsjeti kako to izgleda smijati se. A poslije, možda nešto i promijenit
 i.“, zapisala je o predstavi dramaturginja Jelena Paligorić Sinkević.</p><p
 >U predstavi igraju: Nikolina Marić, Vedran Vilogorac i Damir Čobo.</p>
CONTACT:Ova adresa el. pošte je zaštićena od spambotova. Omogućite JavaScript da biste je vidjeli.
				document.getElementById('cloakf40b348d9ad954699969c1d0f9f99a15').innerHTML = '';
				var prefix = '&#109;a' + 'i&#108;' + '&#116;o';
				var path = 'hr' + 'ef' + '=';
				var addyf40b348d9ad954699969c1d0f9f99a15 = 'm&#97;rk&#101;t&#105;ng' + '&#64;';
				addyf40b348d9ad954699969c1d0f9f99a15 = addyf40b348d9ad954699969c1d0f9f99a15 + 'npm' + '&#46;' + 'b&#97;';
				var addy_textf40b348d9ad954699969c1d0f9f99a15 = 'm&#97;rk&#101;t&#105;ng' + '&#64;' + 'npm' + '&#46;' + 'b&#97;';document.getElementById('cloakf40b348d9ad954699969c1d0f9f99a15').innerHTML += '<a ' + path + '\'' + prefix + ':' + addyf40b348d9ad954699969c1d0f9f99a15 + '\'>'+addy_textf40b348d9ad954699969c1d0f9f99a15+'';
		
X-EXTRAINFO:Cijena ulaznice iznosi 10 KM, sa popustom za učenike, studente i penzionere
  5 KM.\nUlaznice za sve izvedbe su u prodaji na blagajni NPM-a svakim radni
 m danom od 10:30 do 14 sati.\nRezervacije: na broj 036/550-128, mail: Ova a
 dresa el. pošte je zaštićena od spambotova. Omogućite JavaScript da biste j
 e vidjeli.
				document.getElementById('cloak5a917815368098f53611a4e6dfe8b7
 0e').innerHTML = '';
				var prefix = '&#109;a' + 'i&#108;' + '&#116;o';
		
 		var path = 'hr' + 'ef' + '=';
				var addy5a917815368098f53611a4e6dfe8b70
 e = 'm&#97;rk&#101;t&#105;ng' + '&#64;';
				addy5a917815368098f53611a4e6df
 e8b70e = addy5a917815368098f53611a4e6dfe8b70e + 'npm' + '&#46;' + 'b&#97;';
 
				var addy_text5a917815368098f53611a4e6dfe8b70e = 'm&#97;rk&#101;t&#105;
 ng' + '&#64;' + 'npm' + '&#46;' + 'b&#97;';document.getElementById('cloak5a
 917815368098f53611a4e6dfe8b70e').innerHTML += '<a ' + path + '\'' + prefix 
 + ':' + addy5a917815368098f53611a4e6dfe8b70e + '\'>'+addy_text5a91781536809
 8f53611a4e6dfe8b70e+'';
		, porukom u inbox na Facebook ili Instagram stran
 ici Narodnog pozorišta Mostar.
DTSTAMP:20260422T040628Z
DTSTART;TZID=Europe/Sarajevo:20241108T200000
DTEND;TZID=Europe/Sarajevo:20241108T210000
SEQUENCE:0
TRANSP:OPAQUE
END:VEVENT
END:VCALENDAR