BEGIN:VCALENDAR
VERSION:2.0
PRODID:-//jEvents 2.0 for Joomla//EN
CALSCALE:GREGORIAN
METHOD:PUBLISH
BEGIN:VTIMEZONE
TZID:Europe/Sarajevo
END:VTIMEZONE
BEGIN:VEVENT
UID:478c8a2b3812b909adb15b6c51da07c2
CATEGORIES:Program
CREATED:20241029T122910
SUMMARY:Ne igraj na Engleze
LOCATION:Velika scena
DESCRIPTION:Predstava na zanimljiv, ozbiljan, ironičan i duhovit način govori o jednom 
 od gorućih problema bh. društva – kockanju i ovisnosti o klađenju. Trojica 
 najboljih prijatelja iz djetinjstva – Paun, Piksi i Bule – čekaju ishod jed
 ne utakmice koja ih dijeli od željenog dobitka, a na koju su se sva trojica
  različito kladila. Od tog jednog rezultata njih trojica očekuju rješenje s
 vih svojih problema. Drži ih zajednička ovisnost i iluzija kako jedan dobit
 ak sve rješava, kako zadovoljstvo jednog dobitka poništava sva životna neza
 dovoljstva, kako taj jedan pogodak briše sve promašaje. U tom iščekivanju o
 ni otkrivaju sve svoje strahove i nade, na vidjelo izlaze njihove mračne ta
 jne, njihove nade i snovi o sreći ...\nU predstavi igraju: Emir Spahić, Iva
 n Skoko i Emir Sejfić.\n
CONTACT:Ova adresa el. pošte je zaštićena od spambotova. Omogućite JavaScript da biste je vidjeli.
				document.getElementById('cloakf74970a6a7f3a9b72b293ab468ee5d26').innerHTML = '';
				var prefix = '&#109;a' + 'i&#108;' + '&#116;o';
				var path = 'hr' + 'ef' + '=';
				var addyf74970a6a7f3a9b72b293ab468ee5d26 = 'm&#97;rk&#101;t&#105;ng' + '&#64;';
				addyf74970a6a7f3a9b72b293ab468ee5d26 = addyf74970a6a7f3a9b72b293ab468ee5d26 + 'npm' + '&#46;' + 'b&#97;';
				var addy_textf74970a6a7f3a9b72b293ab468ee5d26 = 'm&#97;rk&#101;t&#105;ng' + '&#64;' + 'npm' + '&#46;' + 'b&#97;';document.getElementById('cloakf74970a6a7f3a9b72b293ab468ee5d26').innerHTML += '<a ' + path + '\'' + prefix + ':' + addyf74970a6a7f3a9b72b293ab468ee5d26 + '\'>'+addy_textf74970a6a7f3a9b72b293ab468ee5d26+'';
		
X-EXTRAINFO:Cijena ulaznice iznosi 10 KM, sa popustom za učenike, studente i penzionere
  5 KM.\nUlaznice za sve izvedbe su u prodaji na blagajni NPM-a svakim radni
 m danom od 10:30 do 14 sati.\nRezervacije: na broj 036/550-128, mail: Ova a
 dresa el. pošte je zaštićena od spambotova. Omogućite JavaScript da biste j
 e vidjeli.
				document.getElementById('cloakf95ae48d438fd40058c5b718d9ca5f
 8d').innerHTML = '';
				var prefix = '&#109;a' + 'i&#108;' + '&#116;o';
		
 		var path = 'hr' + 'ef' + '=';
				var addyf95ae48d438fd40058c5b718d9ca5f8
 d = 'm&#97;rk&#101;t&#105;ng' + '&#64;';
				addyf95ae48d438fd40058c5b718d9
 ca5f8d = addyf95ae48d438fd40058c5b718d9ca5f8d + 'npm' + '&#46;' + 'b&#97;';
 
				var addy_textf95ae48d438fd40058c5b718d9ca5f8d = 'm&#97;rk&#101;t&#105;
 ng' + '&#64;' + 'npm' + '&#46;' + 'b&#97;';document.getElementById('cloakf9
 5ae48d438fd40058c5b718d9ca5f8d').innerHTML += '<a ' + path + '\'' + prefix 
 + ':' + addyf95ae48d438fd40058c5b718d9ca5f8d + '\'>'+addy_textf95ae48d438fd
 40058c5b718d9ca5f8d+'';
		, porukom u inbox na Facebook ili Instagram stran
 ici Narodnog pozorišta Mostar.
DTSTAMP:20260422T040148Z
DTSTART;TZID=Europe/Sarajevo:20241101T200000
DTEND;TZID=Europe/Sarajevo:20241101T210000
SEQUENCE:0
TRANSP:OPAQUE
END:VEVENT
END:VCALENDAR