BEGIN:VCALENDAR
VERSION:2.0
PRODID:-//jEvents 2.0 for Joomla//EN
CALSCALE:GREGORIAN
METHOD:PUBLISH
BEGIN:VTIMEZONE
TZID:Europe/Sarajevo
END:VTIMEZONE
BEGIN:VEVENT
UID:7955d3ea8286cf9b9175fe960591c716
CATEGORIES:Program
CREATED:20241010T114227
SUMMARY:„Ludilo u ...“ - 2. repriza
LOCATION:Studio 64
DESCRIPTION:Predstava „Ludilo u ...“ autora Eugena Ionesca, u režiji Gorana Damjanca. \
 nU predstavi igraju: Nikolina Marić (k.g.), Vedran Vilogorac i Damir Čobo (
 k.g.). Adaptaciju teksta potpisuje Jelena Paligorić Sinkević, scenografiju 
 i kostimografiju Edna Slipčević, izbor muzike Goran Damjanac, muzički aranž
 man i tehniku glasa Milica Damjanac dok je za scenski pokret zadužen Damir 
 Čobo. \n
CONTACT:Ova adresa el. pošte je zaštićena od spambotova. Omogućite JavaScript da biste je vidjeli.
				document.getElementById('cloak12a3a6586bd0cc31db44d84843a46b31').innerHTML = '';
				var prefix = '&#109;a' + 'i&#108;' + '&#116;o';
				var path = 'hr' + 'ef' + '=';
				var addy12a3a6586bd0cc31db44d84843a46b31 = 'm&#97;rk&#101;t&#105;ng' + '&#64;';
				addy12a3a6586bd0cc31db44d84843a46b31 = addy12a3a6586bd0cc31db44d84843a46b31 + 'npm' + '&#46;' + 'b&#97;';
				var addy_text12a3a6586bd0cc31db44d84843a46b31 = 'm&#97;rk&#101;t&#105;ng' + '&#64;' + 'npm' + '&#46;' + 'b&#97;';document.getElementById('cloak12a3a6586bd0cc31db44d84843a46b31').innerHTML += '<a ' + path + '\'' + prefix + ':' + addy12a3a6586bd0cc31db44d84843a46b31 + '\'>'+addy_text12a3a6586bd0cc31db44d84843a46b31+'';
		
X-EXTRAINFO:ULAZNICE su u prodaji na blagajni NPM-a svakim radnim danom od 10:30 do 14:
 00 sati a na dan igranja predstave od 10:30 do 14:00 sati, te od 18:00 do 2
 0:00 sati. Rezervacije na broj: 036/550-128, mail: Ova adresa el. pošte je 
 zaštićena od spambotova. Omogućite JavaScript da biste je vidjeli.
				docu
 ment.getElementById('cloak50255f9efa64a72c8cbbfe4c1ffd596a').innerHTML = ''
 ;
				var prefix = '&#109;a' + 'i&#108;' + '&#116;o';
				var path = 'hr' +
  'ef' + '=';
				var addy50255f9efa64a72c8cbbfe4c1ffd596a = 'm&#97;rk&#101;
 t&#105;ng' + '&#64;';
				addy50255f9efa64a72c8cbbfe4c1ffd596a = addy50255f
 9efa64a72c8cbbfe4c1ffd596a + 'npm' + '&#46;' + 'b&#97;';
				var addy_text5
 0255f9efa64a72c8cbbfe4c1ffd596a = 'm&#97;rk&#101;t&#105;ng' + '&#64;' + 'np
 m' + '&#46;' + 'b&#97;';document.getElementById('cloak50255f9efa64a72c8cbbf
 e4c1ffd596a').innerHTML += '<a ' + path + '\'' + prefix + ':' + addy50255f9
 efa64a72c8cbbfe4c1ffd596a + '\'>'+addy_text50255f9efa64a72c8cbbfe4c1ffd596a
 +'';
		 ili porukom u inbox na Facebook/Instagram stranici Narodnog pozoriš
 ta Mostar.
DTSTAMP:20260422T073216Z
DTSTART;TZID=Europe/Sarajevo:20241018T200000
DTEND;TZID=Europe/Sarajevo:20241018T210000
SEQUENCE:0
TRANSP:OPAQUE
END:VEVENT
END:VCALENDAR