BEGIN:VCALENDAR
VERSION:2.0
PRODID:-//jEvents 2.0 for Joomla//EN
CALSCALE:GREGORIAN
METHOD:PUBLISH
BEGIN:VTIMEZONE
TZID:Europe/Sarajevo
END:VTIMEZONE
BEGIN:VEVENT
UID:25c953ee0964b4a3b4bbf40f8433fe9b
CATEGORIES:Program
CREATED:20241010T114153
SUMMARY:„Ludilo u ...“ - 1. repriza
LOCATION:Studio 64
DESCRIPTION:Predstava „Ludilo u ...“ autora Eugena Ionesca, u režiji Gorana Damjanca. \
 nU predstavi igraju: Nikolina Marić (k.g.), Vedran Vilogorac i Damir Čobo (
 k.g.). Adaptaciju teksta potpisuje Jelena Paligorić Sinkević, scenografiju 
 i kostimografiju Edna Slipčević, izbor muzike Goran Damjanac, muzički aranž
 man i tehniku glasa Milica Damjanac dok je za scenski pokret zadužen Damir 
 Čobo. \n
CONTACT:Ova adresa el. pošte je zaštićena od spambotova. Omogućite JavaScript da biste je vidjeli.
				document.getElementById('cloak24b872f6b65da1095057813a0cc513d8').innerHTML = '';
				var prefix = '&#109;a' + 'i&#108;' + '&#116;o';
				var path = 'hr' + 'ef' + '=';
				var addy24b872f6b65da1095057813a0cc513d8 = 'm&#97;rk&#101;t&#105;ng' + '&#64;';
				addy24b872f6b65da1095057813a0cc513d8 = addy24b872f6b65da1095057813a0cc513d8 + 'npm' + '&#46;' + 'b&#97;';
				var addy_text24b872f6b65da1095057813a0cc513d8 = 'm&#97;rk&#101;t&#105;ng' + '&#64;' + 'npm' + '&#46;' + 'b&#97;';document.getElementById('cloak24b872f6b65da1095057813a0cc513d8').innerHTML += '<a ' + path + '\'' + prefix + ':' + addy24b872f6b65da1095057813a0cc513d8 + '\'>'+addy_text24b872f6b65da1095057813a0cc513d8+'';
		
X-EXTRAINFO:ULAZNICE su u prodaji na blagajni NPM-a svakim radnim danom od 10:30 do 14:
 00 sati a na dan igranja predstave od 10:30 do 14:00 sati, te od 18:00 do 2
 0:00 sati. Rezervacije na broj: 036/550-128, mail: Ova adresa el. pošte je 
 zaštićena od spambotova. Omogućite JavaScript da biste je vidjeli.
				docu
 ment.getElementById('cloak70148e51462875d221095b5f5b434e48').innerHTML = ''
 ;
				var prefix = '&#109;a' + 'i&#108;' + '&#116;o';
				var path = 'hr' +
  'ef' + '=';
				var addy70148e51462875d221095b5f5b434e48 = 'm&#97;rk&#101;
 t&#105;ng' + '&#64;';
				addy70148e51462875d221095b5f5b434e48 = addy70148e
 51462875d221095b5f5b434e48 + 'npm' + '&#46;' + 'b&#97;';
				var addy_text7
 0148e51462875d221095b5f5b434e48 = 'm&#97;rk&#101;t&#105;ng' + '&#64;' + 'np
 m' + '&#46;' + 'b&#97;';document.getElementById('cloak70148e51462875d221095
 b5f5b434e48').innerHTML += '<a ' + path + '\'' + prefix + ':' + addy70148e5
 1462875d221095b5f5b434e48 + '\'>'+addy_text70148e51462875d221095b5f5b434e48
 +'';
		 ili porukom u inbox na Facebook/Instagram stranici Narodnog pozoriš
 ta Mostar.
DTSTAMP:20260422T073216Z
DTSTART;TZID=Europe/Sarajevo:20241015T200000
DTEND;TZID=Europe/Sarajevo:20241015T210000
SEQUENCE:0
TRANSP:OPAQUE
END:VEVENT
END:VCALENDAR