BEGIN:VCALENDAR
VERSION:2.0
PRODID:-//jEvents 2.0 for Joomla//EN
CALSCALE:GREGORIAN
METHOD:PUBLISH
BEGIN:VTIMEZONE
TZID:Europe/Sarajevo
END:VTIMEZONE
BEGIN:VEVENT
UID:d7be08d9219e1fd4018ec34e190c63ba
CATEGORIES:Program
CREATED:20241010T114106
SUMMARY:„Ludilo u ...“ - premijera
LOCATION:Studio 64
DESCRIPTION:Narodno pozorište u Mostaru sa zadovoljstvom obavještava javnost da će na M
 aloj sceni „Studio 64“, u ponedjeljak 14. oktobra, sa početkom u 20 sati, p
 remijerno biti izvedena predstava „Ludilo u ...“ autora Eugena Ionesca, u r
 ežiji Gorana Damjanca. \nU predstavi igraju: Nikolina Marić (k.g.), Vedran 
 Vilogorac i Damir Čobo (k.g.). Adaptaciju teksta potpisuje Jelena Paligorić
  Sinkević, scenografiju i kostimografiju Edna Slipčević, izbor muzike Goran
  Damjanac, muzički aranžman i tehniku glasa Milica Damjanac dok je za scens
 ki pokret zadužen Damir Čobo. \n
CONTACT:Ova adresa el. pošte je zaštićena od spambotova. Omogućite JavaScript da biste je vidjeli.
				document.getElementById('cloak9b156d3ab696d1e3dc4fda3d9ac7a824').innerHTML = '';
				var prefix = '&#109;a' + 'i&#108;' + '&#116;o';
				var path = 'hr' + 'ef' + '=';
				var addy9b156d3ab696d1e3dc4fda3d9ac7a824 = 'm&#97;rk&#101;t&#105;ng' + '&#64;';
				addy9b156d3ab696d1e3dc4fda3d9ac7a824 = addy9b156d3ab696d1e3dc4fda3d9ac7a824 + 'npm' + '&#46;' + 'b&#97;';
				var addy_text9b156d3ab696d1e3dc4fda3d9ac7a824 = 'm&#97;rk&#101;t&#105;ng' + '&#64;' + 'npm' + '&#46;' + 'b&#97;';document.getElementById('cloak9b156d3ab696d1e3dc4fda3d9ac7a824').innerHTML += '<a ' + path + '\'' + prefix + ':' + addy9b156d3ab696d1e3dc4fda3d9ac7a824 + '\'>'+addy_text9b156d3ab696d1e3dc4fda3d9ac7a824+'';
		
X-EXTRAINFO:ULAZNICE su u prodaji na blagajni NPM-a svakim radnim danom od 10:30 do 14:
 00 sati a na dan igranja predstave od 10:30 do 14:00 sati, te od 18:00 do 2
 0:00 sati. Rezervacije na broj: 036/550-128, mail: Ova adresa el. pošte je 
 zaštićena od spambotova. Omogućite JavaScript da biste je vidjeli.
				docu
 ment.getElementById('cloaka405b17dbd43ab34cac06143177fbf86').innerHTML = ''
 ;
				var prefix = '&#109;a' + 'i&#108;' + '&#116;o';
				var path = 'hr' +
  'ef' + '=';
				var addya405b17dbd43ab34cac06143177fbf86 = 'm&#97;rk&#101;
 t&#105;ng' + '&#64;';
				addya405b17dbd43ab34cac06143177fbf86 = addya405b1
 7dbd43ab34cac06143177fbf86 + 'npm' + '&#46;' + 'b&#97;';
				var addy_texta
 405b17dbd43ab34cac06143177fbf86 = 'm&#97;rk&#101;t&#105;ng' + '&#64;' + 'np
 m' + '&#46;' + 'b&#97;';document.getElementById('cloaka405b17dbd43ab34cac06
 143177fbf86').innerHTML += '<a ' + path + '\'' + prefix + ':' + addya405b17
 dbd43ab34cac06143177fbf86 + '\'>'+addy_texta405b17dbd43ab34cac06143177fbf86
 +'';
		 ili porukom u inbox na Facebook/Instagram stranici Narodnog pozoriš
 ta Mostar.
DTSTAMP:20260422T073250Z
DTSTART;TZID=Europe/Sarajevo:20241014T200000
DTEND;TZID=Europe/Sarajevo:20241014T210000
SEQUENCE:0
TRANSP:OPAQUE
END:VEVENT
END:VCALENDAR