BEGIN:VCALENDAR
VERSION:2.0
PRODID:-//jEvents 2.0 for Joomla//EN
CALSCALE:GREGORIAN
METHOD:PUBLISH
BEGIN:VTIMEZONE
TZID:Europe/Sarajevo
END:VTIMEZONE
BEGIN:VEVENT
UID:2a108ed29eebc59f3d46ec112108b029
CATEGORIES:Program
CREATED:20240703T175634
SUMMARY:Ko je lud 
LOCATION:Plato ispod Starog mosta
DESCRIPTION:<p>Predstava „Ko je lud“ rađena je po motivima jednočinke “IDIOT” Muza Pavl
 ova, u dramatizaciji i adaptaciji Nedžme Čizmo i režiji Mirze Begovića.</p>
 <p>Radnja predstave prati čovjeka koji dolazi kod psihologa i traži od njeg
 a uvjerenje da je normalan. Birokracija ga onemogućava u tome. “Ganjajući p
 apire”, on poludi.</p><p>Igraju: Adem Smailhodžić i Zlatan Školjić</p>
CONTACT:Ova adresa el. pošte je zaštićena od spambotova. Omogućite JavaScript da biste je vidjeli.
				document.getElementById('cloak3a41fa2a6764c2959b340e27e6f535f4').innerHTML = '';
				var prefix = '&#109;a' + 'i&#108;' + '&#116;o';
				var path = 'hr' + 'ef' + '=';
				var addy3a41fa2a6764c2959b340e27e6f535f4 = 'm&#97;rk&#101;t&#105;ng' + '&#64;';
				addy3a41fa2a6764c2959b340e27e6f535f4 = addy3a41fa2a6764c2959b340e27e6f535f4 + 'npm' + '&#46;' + 'b&#97;';
				var addy_text3a41fa2a6764c2959b340e27e6f535f4 = 'm&#97;rk&#101;t&#105;ng' + '&#64;' + 'npm' + '&#46;' + 'b&#97;';document.getElementById('cloak3a41fa2a6764c2959b340e27e6f535f4').innerHTML += '<a ' + path + '\'' + prefix + ':' + addy3a41fa2a6764c2959b340e27e6f535f4 + '\'>'+addy_text3a41fa2a6764c2959b340e27e6f535f4+'';
		
X-EXTRAINFO:Ulaz besplatan uz obavezno prethodno preuzimanje ulaznica na blagajni NPM-a
DTSTAMP:20260421T015955Z
DTSTART;TZID=Europe/Sarajevo:20240727T210000
DTEND;TZID=Europe/Sarajevo:20240727T220000
SEQUENCE:0
TRANSP:OPAQUE
END:VEVENT
END:VCALENDAR