BEGIN:VCALENDAR
VERSION:2.0
PRODID:-//jEvents 2.0 for Joomla//EN
CALSCALE:GREGORIAN
METHOD:PUBLISH
BEGIN:VTIMEZONE
TZID:Europe/Sarajevo
BEGIN:STANDARD
DTSTART:20201202T200000
RDATE:20210328T030000
TZOFFSETFROM:+0200
TZOFFSETTO:+0100
TZNAME:Europe/Sarajevo CET
END:STANDARD
END:VTIMEZONE
BEGIN:VEVENT
UID:0f369563aa773197e34f01a2cfb58a0a
CATEGORIES:Program
CREATED:20211126T131616
SUMMARY:Ne igraj na Engleze
LOCATION:Velika scena
DESCRIPTION:Ne igraj na Engleze\n
CONTACT:Ova adresa el. pošte je zaštićena od spambotova. Omogućite JavaScript da biste je vidjeli.
				document.getElementById('cloak1caa57cb9335fcb8ac6d10c0a27237c3').innerHTML = '';
				var prefix = '&#109;a' + 'i&#108;' + '&#116;o';
				var path = 'hr' + 'ef' + '=';
				var addy1caa57cb9335fcb8ac6d10c0a27237c3 = 'm&#97;rk&#101;t&#105;ng' + '&#64;';
				addy1caa57cb9335fcb8ac6d10c0a27237c3 = addy1caa57cb9335fcb8ac6d10c0a27237c3 + 'npm' + '&#46;' + 'b&#97;';
				var addy_text1caa57cb9335fcb8ac6d10c0a27237c3 = 'm&#97;rk&#101;t&#105;ng' + '&#64;' + 'npm' + '&#46;' + 'b&#97;';document.getElementById('cloak1caa57cb9335fcb8ac6d10c0a27237c3').innerHTML += '<a ' + path + '\'' + prefix + ':' + addy1caa57cb9335fcb8ac6d10c0a27237c3 + '\'>'+addy_text1caa57cb9335fcb8ac6d10c0a27237c3+'';
		
DTSTAMP:20260425T030338Z
DTSTART;TZID=Europe/Sarajevo:20211203T200000
DTEND;TZID=Europe/Sarajevo:20211203T210000
SEQUENCE:0
TRANSP:OPAQUE
END:VEVENT
END:VCALENDAR