BEGIN:VCALENDAR
VERSION:2.0
PRODID:-//jEvents 2.0 for Joomla//EN
CALSCALE:GREGORIAN
METHOD:PUBLISH
BEGIN:VTIMEZONE
TZID:Europe/Sarajevo
END:VTIMEZONE
BEGIN:VEVENT
UID:ff3411558bdd86b6f14356241d9d2c93
CATEGORIES:Program
CREATED:20250912T183839
SUMMARY:Ne igraj na Engleze 
LOCATION:Velika scena
DESCRIPTION:Predstava „Ne igraj na Engleze“ autora Vladimira Đurđevića, u režiji Emira 
 Spahića, na zanimljiv, ozbiljan, ironičan i duhovit način govori o jednom o
 d gorućih problema bh. društva – kockanju i ovisnosti o klađenju. Trojica n
 ajboljih prijatelja iz djetinjstva – Paun, Piksi i Bule – čekaju ishod jedn
 e utakmice koja ih dijeli od željenog dobitka, a na koju su se sva trojica 
 različito kladila. Od tog jednog rezultata njih trojica očekuju rješenje sv
 ih svojih problema. Drži ih zajednička ovisnost i iluzija kako jedan dobita
 k sve rješava, kako zadovoljstvo jednog dobitka poništava sva životna nezad
 ovoljstva, kako taj jedan pogodak briše sve promašaje. U tom iščekivanju on
 i otkrivaju sve svoje strahove i nade, na vidjelo izlaze njihove mračne taj
 ne, njihove nade i snovi o sreći ...\nIgraju: Emir Spahić, Ivan Skoko i Emi
 r Sejfić\n
CONTACT:Ova adresa el. pošte je zaštićena od spambotova. Omogućite JavaScript da biste je vidjeli.
				document.getElementById('cloak44d6df4137809f48052803da8eb6e5a1').innerHTML = '';
				var prefix = '&#109;a' + 'i&#108;' + '&#116;o';
				var path = 'hr' + 'ef' + '=';
				var addy44d6df4137809f48052803da8eb6e5a1 = 'm&#97;rk&#101;t&#105;ng' + '&#64;';
				addy44d6df4137809f48052803da8eb6e5a1 = addy44d6df4137809f48052803da8eb6e5a1 + 'npm' + '&#46;' + 'b&#97;';
				var addy_text44d6df4137809f48052803da8eb6e5a1 = 'm&#97;rk&#101;t&#105;ng' + '&#64;' + 'npm' + '&#46;' + 'b&#97;';document.getElementById('cloak44d6df4137809f48052803da8eb6e5a1').innerHTML += '<a ' + path + '\'' + prefix + ':' + addy44d6df4137809f48052803da8eb6e5a1 + '\'>'+addy_text44d6df4137809f48052803da8eb6e5a1+'';
		
X-EXTRAINFO:Cijena ulaznice 10 KM, sa popustom za učenike, studente i penzionere 5 KM
DTSTAMP:20260422T214411Z
DTSTART;TZID=Europe/Sarajevo:20250912T200000
DTEND;TZID=Europe/Sarajevo:20250912T210000
SEQUENCE:0
TRANSP:OPAQUE
END:VEVENT
END:VCALENDAR