BEGIN:VCALENDAR
VERSION:2.0
PRODID:-//jEvents 2.0 for Joomla//EN
CALSCALE:GREGORIAN
METHOD:PUBLISH
BEGIN:VTIMEZONE
TZID:Europe/Sarajevo
END:VTIMEZONE
BEGIN:VEVENT
UID:135ecf7241a28e289eda53a9308988f4
CATEGORIES:Program
CREATED:20250912T183755
SUMMARY:Libera me
LOCATION:Centar za kulturu Mostar
DESCRIPTION:Nakon uspješne premijere u Berlinu, mostarska publika imat će priliku pogle
 dati audiovizuelni performans „LIBERA ME (otvoreni proces)” umjetnika Maje 
 Zećo i Romana Stolyara. Ovaj snažan dokumentarni antiratni performans koji 
 kroz zvučne pejzaže i videoumjetnost donosi lična svjedočanstva ljudi iz Bo
 sne i Hercegovine, Ukrajine i Rusije – svjedoka/kinja dvaju najmlađih evrop
 skih ratova. „LIBERA ME“ je otvoreni proces – umjetnički apel za miran suži
 vot ljudi različitih etničkih i geografskih porijekla u globalnom svijetu o
 bilježenom konfliktima i podjelama. Performans je nastao na osnovu intervju
 a sa svjedocima i svjedokinjama ratova u BiH i Ukrajini, koji kroz lične pr
 iče govore o iskustvima rata, izbjeglištvu, traumama, ali i o mogućnostima 
 iscjeljenja, solidarnosti i otpora nasilju.\n \n
CONTACT:Ova adresa el. pošte je zaštićena od spambotova. Omogućite JavaScript da biste je vidjeli.
				document.getElementById('cloakcd19ae8aa0a33ec11ff02cb2b478da35').innerHTML = '';
				var prefix = '&#109;a' + 'i&#108;' + '&#116;o';
				var path = 'hr' + 'ef' + '=';
				var addycd19ae8aa0a33ec11ff02cb2b478da35 = 'm&#97;rk&#101;t&#105;ng' + '&#64;';
				addycd19ae8aa0a33ec11ff02cb2b478da35 = addycd19ae8aa0a33ec11ff02cb2b478da35 + 'npm' + '&#46;' + 'b&#97;';
				var addy_textcd19ae8aa0a33ec11ff02cb2b478da35 = 'm&#97;rk&#101;t&#105;ng' + '&#64;' + 'npm' + '&#46;' + 'b&#97;';document.getElementById('cloakcd19ae8aa0a33ec11ff02cb2b478da35').innerHTML += '<a ' + path + '\'' + prefix + ':' + addycd19ae8aa0a33ec11ff02cb2b478da35 + '\'>'+addy_textcd19ae8aa0a33ec11ff02cb2b478da35+'';
		
X-EXTRAINFO:Ulaz besplatan
DTSTAMP:20260422T214614Z
DTSTART;TZID=Europe/Sarajevo:20250908T200000
DTEND;TZID=Europe/Sarajevo:20250908T210000
SEQUENCE:0
TRANSP:OPAQUE
END:VEVENT
END:VCALENDAR