BEGIN:VCALENDAR
VERSION:2.0
PRODID:-//jEvents 2.0 for Joomla//EN
CALSCALE:GREGORIAN
METHOD:PUBLISH
BEGIN:VTIMEZONE
TZID:Europe/Sarajevo
END:VTIMEZONE
BEGIN:VEVENT
UID:a6748b75b65c98edbd84f0e38f0435d1
CATEGORIES:Program
CREATED:20250318T224546
SUMMARY:Rod i dom
LOCATION:Studio 64
DESCRIPTION:U Rodu i domu prepliću se i stapaju zavičajni pejzaži sa pejzažima ljudske 
 duše, prožimaju se elementi klasične priče sa nitima moderne romaneskne kol
 až-tehnike, zatim elementi misaonih tokova svijesti sa dijelovima petskog, 
 lirskog i rustikalnog...\n\n\n\n
CONTACT:Ova adresa el. pošte je zaštićena od spambotova. Omogućite JavaScript da biste je vidjeli.
				document.getElementById('cloakd2510bf8144ba1dcbac8d31491453529').innerHTML = '';
				var prefix = '&#109;a' + 'i&#108;' + '&#116;o';
				var path = 'hr' + 'ef' + '=';
				var addyd2510bf8144ba1dcbac8d31491453529 = 'm&#97;rk&#101;t&#105;ng' + '&#64;';
				addyd2510bf8144ba1dcbac8d31491453529 = addyd2510bf8144ba1dcbac8d31491453529 + 'npm' + '&#46;' + 'b&#97;';
				var addy_textd2510bf8144ba1dcbac8d31491453529 = 'm&#97;rk&#101;t&#105;ng' + '&#64;' + 'npm' + '&#46;' + 'b&#97;';document.getElementById('cloakd2510bf8144ba1dcbac8d31491453529').innerHTML += '<a ' + path + '\'' + prefix + ':' + addyd2510bf8144ba1dcbac8d31491453529 + '\'>'+addy_textd2510bf8144ba1dcbac8d31491453529+'';
		
X-EXTRAINFO:Ulaz besplatan uz obavezno prethodno preuzimanje ulaznica na blagajni\nNPM-
 a.
DTSTAMP:20260425T054914Z
DTSTART;TZID=Europe/Sarajevo:20250327T200000
DTEND;TZID=Europe/Sarajevo:20250327T210000
SEQUENCE:0
TRANSP:OPAQUE
END:VEVENT
END:VCALENDAR