BEGIN:VCALENDAR
VERSION:2.0
PRODID:-//jEvents 2.0 for Joomla//EN
CALSCALE:GREGORIAN
METHOD:PUBLISH
BEGIN:VTIMEZONE
TZID:Europe/Sarajevo
END:VTIMEZONE
BEGIN:VEVENT
UID:f8f58a2783119c83babe58c8161bd3ad
CATEGORIES:Program
CREATED:20250213T171914
SUMMARY:Ovaj mali život
LOCATION:Velika scena
DESCRIPTION:„Svaki život je priča, a svaku priču  vrijedi ispričati. Ova je o Miri. Iak
 o je ona nestala i ne možemo da je nađemo. Možda je prepoznate. Možda vam s
 e još neko iz predstave učini poznat. Nije rijetkost u pozorištu sresti seb
 e ili druge. Ako sretnete Miru, recite joj da dođe, sada u pozorištu imamo 
 malu predstavu o njenom velikom životu... Čekajte, ne... Veliku predstavu o
  njenom malom životu ... Tako nekako“, zapisala je o predstavi autorica i r
 ežiserka Emina Kovačević-Podgorčević.\nKoprodukcija: NP u Mostaru i HNK u M
 ostaru\nIgraju: Nikolina Marić, Amela Kreso, Emir Sejfić, Mirela Mijačank K
 ordić i Fatima Kazazić Obad\n
CONTACT:Ova adresa el. pošte je zaštićena od spambotova. Omogućite JavaScript da biste je vidjeli.
				document.getElementById('cloak89777443a07f451f4a43010d603e21fd').innerHTML = '';
				var prefix = '&#109;a' + 'i&#108;' + '&#116;o';
				var path = 'hr' + 'ef' + '=';
				var addy89777443a07f451f4a43010d603e21fd = 'm&#97;rk&#101;t&#105;ng' + '&#64;';
				addy89777443a07f451f4a43010d603e21fd = addy89777443a07f451f4a43010d603e21fd + 'npm' + '&#46;' + 'b&#97;';
				var addy_text89777443a07f451f4a43010d603e21fd = 'm&#97;rk&#101;t&#105;ng' + '&#64;' + 'npm' + '&#46;' + 'b&#97;';document.getElementById('cloak89777443a07f451f4a43010d603e21fd').innerHTML += '<a ' + path + '\'' + prefix + ':' + addy89777443a07f451f4a43010d603e21fd + '\'>'+addy_text89777443a07f451f4a43010d603e21fd+'';
		
X-EXTRAINFO:Cijena: 10 KM, sa popustom za učenike, studente i penzionere 5 KM
DTSTAMP:20260425T000206Z
DTSTART;TZID=Europe/Sarajevo:20250226T200000
DTEND;TZID=Europe/Sarajevo:20250226T210000
SEQUENCE:0
TRANSP:OPAQUE
END:VEVENT
END:VCALENDAR